{"text_format":"1","workbook":"xlsx","n_sheets":2,"sheets":["Mestverwerkingsplicht","Lijstgemeenten"],"not_rendered":{"charts":0,"images":2,"macros":1,"external_links":0,"defined_names":5,"comments":0,"pivot_tables":0},"unopened":[],"bounds":{"document_bytes":16777216,"sheet_cells":100000,"rows_first":2000,"rows_last":500,"rows_between":2000,"halvings":0,"cell_chars":16384,"cell_head_chars":4096},"cells_cut":0,"cells_raw":0,"read":"whole","date_system":"1900"}

{"sheet":"Mestverwerkingsplicht","index":0,"n_rows":57,"n_cols":14,"rows_kept":57,"cut":false,"hidden":false,"merged":[[1,1,1,14],[49,1,49,13],[8,6,8,10],[41,3,41,5],[42,3,42,5],[43,3,43,5],[39,1,39,14],[13,1,13,14],[48,1,48,12]]}
[]
[null,"BASsistent Mestverwerking"]
[null,"Vlaamse Landmaatschappij, 2023. Versie 3.0. "]
[]
[null,"Vul enkel de groene cellen in of kies de juiste mogelijkheid bij de keuzeboxen. "]
[]
[null,"1 - Identificatiegegevens"]
[]
[null,"nummer landbouwer:",null,null,"    naam landbouwer:",null,null,null,null,null,null,null,"kalenderjaar:","kalenderjaar"]
[]
[null," 2 - Berekening van het basispercentage mestverwerking"]
[]
[null,"Kies eerst in welke provincie en gemeente de exploitaties van uw bedrijf liggen. "]
[null,"Vul dan per exploitatie de netto-stikstofproductie in1. "]
[]
[null,null,"provincie",null,"gemeente",null,null,"netto-stikstofproductie",null,null,"basispercentage"]
[null,"exploitatie 1:",null,null,null,null,null,null,"kg N",null,{"$f":"IF(E17=\"\",0,(Lijstgemeenten!M$79)/100)","v":0},null,{"$f":"H17*K17","v":0}]
[null,"exploitatie 2:",null,null,null,null,null,null,"kg N",null,{"$f":"IF(E18=\"\",0,(Lijstgemeenten!R$79)/100)","v":0},null,{"$f":"H18*K18","v":0}]
[null,"exploitatie 3:",null,null,null,null,null,null,"kg N",null,{"$f":"IF(E19=\"\",0,(Lijstgemeenten!W$79)/100)","v":0},null,0]
[null,"exploitatie 4:",null,null,null,null,null,null,"kg N",null,{"$f":"IF(E20=\"\",0,(Lijstgemeenten!AB$79)/100)","v":0},null,0]
[null,"exploitatie 5:",null,null,null,null,null,null,"kg N",null,{"$f":"IF(E21=\"\",0,(Lijstgemeenten!AG$79)/100)","v":0},null,0]
[null,"exploitatie 6:",null,null,null,null,null,null,"kg N",null,{"$f":"IF(E22=\"\",0,(Lijstgemeenten!AL$79)/100)","v":0},null,0]
[null,"exploitatie 7:",null,null,null,null,null,null,"kg N",null,{"$f":"IF(E23=\"\",0,(Lijstgemeenten!AQ$79)/100)","v":0},null,0]
[null,"exploitatie 8:",null,null,null,null,null,null,"kg N",null,{"$f":"IF(E24=\"\",0,(Lijstgemeenten!AV$79)/100)","v":0},null,0]
[null,"exploitatie 9:",null,null,null,null,null,null,"kg N",null,{"$f":"IF(E25=\"\",0,(Lijstgemeenten!BA$79)/100)","v":0},null,0]
[null,"exploitatie 10:",null,null,null,null,null,null,"kg N",null,{"$f":"IF(E26=\"\",0,(Lijstgemeenten!BF$79)/100)","v":0},null,0]
[null,"exploitatie 11:",null,null,null,null,null,null,"kg N",null,{"$f":"IF(E27=\"\",0,(Lijstgemeenten!BK$79)/100)","v":0},null,0]
[null,null,null,null,null,"totaal:",null,{"$f":"SUM(H17:H27)","v":0},"kg N",null,null,null,{"$f":"SUM(M17:M27)","v":0}]
[]
[null,"Het basispercentage van de mestverwerkingsplicht voor alle exploitaties samen bedraagt:",null,null,null,null,null,null,null,null,{"$f":"ROUND(IF(H28=0,0,M28/H28*100),2)","v":0}]
[]
[]
[null,"3 - Berekening van het totale verwerkingspercentage"]
[]
[null,"Vul in hoeveel de totale afzetruimte voor N uit dierlijke mest op uw bedrijf bedraagt2:"]
[]
[null,"Het netto-stikstofoverschot van uw bedrijf (= totaal van alle exploitaties) bedraagt:",null,null,null,null,null,null,null,null,{"$f":"+H28-K35","v":0}]
[]
[null,"Totaal percentage verwerkingsplicht"]
[null,"Het te verwerken percentage in een bepaald kalenderjaar bedraagt 0,60% per volle schijf van 1000 kg netto-stikstofoverschot van het bedrijf in dat kalenderjaar. Daarbij wordt het basispercentage opgeteld. Het te verwerken percentage bedraagt maximaal 60 % van het netto-stikstofoverschot van het bedrijf in dat kalenderjaar.  "]
[]
[null,null,null,"aantal volle schijven van 1000 kg:",null,null,null,{"$f":"ROUNDDOWN(K37/1000,0)","v":0},"x 0,6% =",{"$f":"H42*0.6","v":0}]
[null,null,null,"basispercentage:",null,null,null,null,null,{"$f":"K30","v":0}]
[null,null,null,"totaal percentage verwerkingsplicht:",null,null,null,null,null,{"$f":"IF(SUM(J42:J43)>=60,60,SUM(J42:J43))","v":0}]
[]
[]
[null,"4 - Hoeveel moet ik verwerken?"]
[]
[null,"De te verwerken hoeveelheid is het totale percentage verwerkingsplicht vermenigvuldigd met het nettostikstofoverschot van het bedrijf. "]
[null,"Als de te verwerken hoeveelheid minder is dan 5000 kg N, bent u van de verwerkingsplicht ontheven. De te verwerken hoeveelheid bedraagt dan 0 kg N. "]
[]
[null,"te verwerken hoeveelheid: ",null,null,{"$f":"IF(K37*(J44/100)<5000,0,(K37*(J44/100)))","v":0}]
[]
[]
[1,"U kunt u voor de netto-stikstofproductie baseren op uw gegevens van vorig jaar als uw bedrijfssituatie niet veel is veranderd."]
[null,"De netto-productie vindt u terug in de mestbalans op het Mestbankloket."]
[2,"De afzetmogelijkheden van dierlijke mest op eigen gronden vindt u in de bemestingsprognose op het Mestbankloket."]

{"sheet":"Lijstgemeenten","index":1,"n_rows":302,"n_cols":65,"rows_kept":302,"cut":false,"hidden":true,"merged":[]}
["Provincie",null,"Gemeente","?",null,null,"Basispercentage",null,"nr","Provincie",null,null,"Lijst 1",null,null,null,null,"Lijst 2",null,null,null,null,"Lijst 3",null,null,null,null,"Lijst 4",null,null,null,null,"Lijst 5",null,null,null,null,"Lijst 6",null,null,null,null,"Lijst 7",null,null,null,null,"Lijst 8",null,null,null,null,"Lijst 9",null,null,null,null,"Lijst 10",null,null,null,null,"Lijst 11"]
["Antwerpen",1,"AARTSELAAR",317.54000000000002,38227.186000000002,null,10,null,1,"Antwerpen",null,{"$f":"VLOOKUP($I$12,A1:G302,2,FALSE)","v":{"$error":"#VALUE!"}},{"$f":"VLOOKUP(L2,$B$1:$G$302,2,FALSE)","v":{"$error":"#VALUE!"}},{"$f":"ISERROR(M2)","v":true},{"$f":"IF(N2=FALSE,M2,\"\")","v":""},null,{"$f":"VLOOKUP($I$20,$A$1:$G$302,2,FALSE)","v":{"$error":"#VALUE!"}},{"$f":"VLOOKUP(Q2,$B$1:$G$302,2,FALSE)","v":{"$error":"#VALUE!"}},{"$f":"ISERROR(R2)","v":true},{"$f":"IF(S2=FALSE,R2,\"\")","v":""},null,{"$f":"VLOOKUP($I$28,$A$1:$G$302,2,FALSE)","v":{"$error":"#VALUE!"}},{"$f":"VLOOKUP(V2,$B$1:$G$302,2,FALSE)","v":{"$error":"#VALUE!"}},{"$f":"ISERROR(W2)","v":true},{"$f":"IF(X2=FALSE,W2,\"\")","v":""},null,{"$f":"VLOOKUP($I$36,$A$1:$G$302,2,FALSE)","v":{"$error":"#VALUE!"}},{"$f":"VLOOKUP(AA2,$B$1:$G$302,2,FALSE)","v":{"$error":"#VALUE!"}},{"$f":"ISERROR(AB2)","v":true},{"$f":"IF(AC2=FALSE,AB2,\"\")","v":""},null,{"$f":"VLOOKUP($I$44,$A$1:$G$302,2,FALSE)","v":{"$error":"#VALUE!"}},{"$f":"VLOOKUP(AF2,$B$1:$G$302,2,FALSE)","v":{"$error":"#VALUE!"}},{"$f":"ISERROR(AG2)","v":true},{"$f":"IF(AH2=FALSE,AG2,\"\")","v":""},null,{"$f":"VLOOKUP($I$52,$A$1:$G$302,2,FALSE)","v":{"$error":"#VALUE!"}},{"$f":"VLOOKUP(AK2,$B$1:$G$302,2,FALSE)","v":{"$error":"#VALUE!"}},{"$f":"ISERROR(AL2)","v":true},{"$f":"IF(AM2=FALSE,AL2,\"\")","v":""},null,{"$f":"VLOOKUP($I$60,$A$1:$G$302,2,FALSE)","v":{"$error":"#VALUE!"}},{"$f":"VLOOKUP(AP2,$B$1:$G$302,2,FALSE)","v":{"$error":"#VALUE!"}},{"$f":"ISERROR(AQ2)","v":true},{"$f":"IF(AR2=FALSE,AQ2,\"\")","v":""},null,{"$f":"VLOOKUP($I$68,$A$1:$G$302,2,FALSE)","v":{"$error":"#VALUE!"}},{"$f":"VLOOKUP(AU2,$B$1:$G$302,2,FALSE)","v":{"$error":"#VALUE!"}},{"$f":"ISERROR(AV2)","v":true},{"$f":"IF(AW2=FALSE,AV2,\"\")","v":""},null,{"$f":"VLOOKUP($I$76,$A$1:$G$302,2,FALSE)","v":{"$error":"#VALUE!"}},{"$f":"VLOOKUP(AZ2,$B$1:$G$302,2,FALSE)","v":{"$error":"#VALUE!"}},{"$f":"ISERROR(BA2)","v":true},{"$f":"IF(BB2=FALSE,BA2,\"\")","v":""},null,{"$f":"VLOOKUP($I$84,$A$1:$G$302,2,FALSE)","v":{"$error":"#VALUE!"}},{"$f":"VLOOKUP(BE2,$B$1:$G$302,2,FALSE)","v":{"$error":"#VALUE!"}},{"$f":"ISERROR(BF2)","v":true},{"$f":"IF(BG2=FALSE,BF2,\"\")","v":""},null,{"$f":"VLOOKUP($I$92,$A$1:$G$302,2,FALSE)","v":{"$error":"#VALUE!"}},{"$f":"VLOOKUP(BJ2,$B$1:$G$302,2,FALSE)","v":{"$error":"#VALUE!"}},{"$f":"ISERROR(BK2)","v":true},{"$f":"IF(BL2=FALSE,BK2,\"\")","v":""}]
["Antwerpen",2,"ANTWERPEN",2345.36,87224.917499999996,null,10,null,2,"Limburg",null,{"$f":"L2+1","v":{"$error":"#VALUE!"}},{"$error":"#VALUE!"},{"$f":"ISERROR(M3)","v":true},{"$f":"IF(N3=FALSE,M3,\"\")","v":""},null,{"$f":"Q2+1","v":{"$error":"#VALUE!"}},{"$error":"#VALUE!"},{"$f":"ISERROR(R3)","v":true},{"$f":"IF(S3=FALSE,R3,\"\")","v":""},null,{"$f":"V2+1","v":{"$error":"#VALUE!"}},{"$error":"#VALUE!"},{"$f":"ISERROR(W3)","v":true},{"$f":"IF(X3=FALSE,W3,\"\")","v":""},null,{"$f":"AA2+1","v":{"$error":"#VALUE!"}},{"$error":"#VALUE!"},{"$f":"ISERROR(AB3)","v":true},{"$f":"IF(AC3=FALSE,AB3,\"\")","v":""},null,{"$f":"AF2+1","v":{"$error":"#VALUE!"}},{"$error":"#VALUE!"},{"$f":"ISERROR(AG3)","v":true},{"$f":"IF(AH3=FALSE,AG3,\"\")","v":""},null,{"$f":"AK2+1","v":{"$error":"#VALUE!"}},{"$error":"#VALUE!"},{"$f":"ISERROR(AL3)","v":true},{"$f":"IF(AM3=FALSE,AL3,\"\")","v":""},null,{"$f":"AP2+1","v":{"$error":"#VALUE!"}},{"$error":"#VALUE!"},{"$f":"ISERROR(AQ3)","v":true},{"$f":"IF(AR3=FALSE,AQ3,\"\")","v":""},null,{"$f":"AU2+1","v":{"$error":"#VALUE!"}},{"$error":"#VALUE!"},{"$f":"ISERROR(AV3)","v":true},{"$f":"IF(AW3=FALSE,AV3,\"\")","v":""},null,{"$f":"AZ2+1","v":{"$error":"#VALUE!"}},{"$error":"#VALUE!"},{"$f":"ISERROR(BA3)","v":true},{"$f":"IF(BB3=FALSE,BA3,\"\")","v":""},null,{"$f":"BE2+1","v":{"$error":"#VALUE!"}},{"$error":"#VALUE!"},{"$f":"ISERROR(BF3)","v":true},{"$f":"IF(BG3=FALSE,BF3,\"\")","v":""},null,{"$f":"BJ2+1","v":{"$error":"#VALUE!"}},{"$error":"#VALUE!"},{"$f":"ISERROR(BK3)","v":true},{"$f":"IF(BL3=FALSE,BK3,\"\")","v":""}]
["Antwerpen",3,"ARENDONK",2073.6950000000002,657565.5334999999,null,20,null,3,"Oost-Vlaanderen",null,{"$f":"L3+1","v":{"$error":"#VALUE!"}},{"$error":"#VALUE!"},true,"",null,{"$f":"Q3+1","v":{"$error":"#VALUE!"}},{"$error":"#VALUE!"},true,"",null,{"$f":"V3+1","v":{"$error":"#VALUE!"}},{"$error":"#VALUE!"},true,"",null,{"$f":"AA3+1","v":{"$error":"#VALUE!"}},{"$error":"#VALUE!"},true,"",null,{"$f":"AF3+1","v":{"$error":"#VALUE!"}},{"$error":"#VALUE!"},true,"",null,{"$f":"AK3+1","v":{"$error":"#VALUE!"}},{"$error":"#VALUE!"},true,"",null,{"$f":"AP3+1","v":{"$error":"#VALUE!"}},{"$error":"#VALUE!"},true,"",null,{"$f":"AU3+1","v":{"$error":"#VALUE!"}},{"$error":"#VALUE!"},true,"",null,{"$f":"AZ3+1","v":{"$error":"#VALUE!"}},{"$error":"#VALUE!"},true,"",null,{"$f":"BE3+1","v":{"$error":"#VALUE!"}},{"$error":"#VALUE!"},true,"",null,{"$f":"BJ3+1","v":{"$error":"#VALUE!"}},{"$error":"#VALUE!"},true,""]
["Antwerpen",4,"BAARLE-HERTOG",527.53499999999997,338880.89,null,30,null,4,"Vlaams-Brabant",null,{"$error":"#VALUE!"},{"$error":"#VALUE!"},true,"",null,{"$error":"#VALUE!"},{"$error":"#VALUE!"},true,"",null,{"$error":"#VALUE!"},{"$error":"#VALUE!"},true,"",null,{"$error":"#VALUE!"},{"$error":"#VALUE!"},true,"",null,{"$error":"#VALUE!"},{"$error":"#VALUE!"},true,"",null,{"$error":"#VALUE!"},{"$error":"#VALUE!"},true,"",null,{"$error":"#VALUE!"},{"$error":"#VALUE!"},true,"",null,{"$error":"#VALUE!"},{"$error":"#VALUE!"},true,"",null,{"$error":"#VALUE!"},{"$error":"#VALUE!"},true,"",null,{"$error":"#VALUE!"},{"$error":"#VALUE!"},true,"",null,{"$error":"#VALUE!"},{"$error":"#VALUE!"},true,""]
["Antwerpen",5,"BALEN",2136.2049999999999,448985.00249999971,null,10,null,5,"West-Vlaanderen",null,{"$error":"#VALUE!"},{"$error":"#VALUE!"},true,"",null,{"$error":"#VALUE!"},{"$error":"#VALUE!"},true,"",null,{"$error":"#VALUE!"},{"$error":"#VALUE!"},true,"",null,{"$error":"#VALUE!"},{"$error":"#VALUE!"},true,"",null,{"$error":"#VALUE!"},{"$error":"#VALUE!"},true,"",null,{"$error":"#VALUE!"},{"$error":"#VALUE!"},true,"",null,{"$error":"#VALUE!"},{"$error":"#VALUE!"},true,"",null,{"$error":"#VALUE!"},{"$error":"#VALUE!"},true,"",null,{"$error":"#VALUE!"},{"$error":"#VALUE!"},true,"",null,{"$error":"#VALUE!"},{"$error":"#VALUE!"},true,"",null,{"$error":"#VALUE!"},{"$error":"#VALUE!"},true,""]
["Antwerpen",6,"BEERSE",1297.6600000000001,348654.65749999997,null,20,null,null,null,null,{"$error":"#VALUE!"},{"$error":"#VALUE!"},true,"",null,{"$error":"#VALUE!"},{"$error":"#VALUE!"},true,"",null,{"$error":"#VALUE!"},{"$error":"#VALUE!"},true,"",null,{"$error":"#VALUE!"},{"$error":"#VALUE!"},true,"",null,{"$error":"#VALUE!"},{"$error":"#VALUE!"},true,"",null,{"$error":"#VALUE!"},{"$error":"#VALUE!"},true,"",null,{"$error":"#VALUE!"},{"$error":"#VALUE!"},true,"",null,{"$error":"#VALUE!"},{"$error":"#VALUE!"},true,"",null,{"$error":"#VALUE!"},{"$error":"#VALUE!"},true,"",null,{"$error":"#VALUE!"},{"$error":"#VALUE!"},true,"",null,{"$error":"#VALUE!"},{"$error":"#VALUE!"},true,""]
["Antwerpen",7,"BERLAAR",1081.7850000000001,133697.73250000001,null,10,null,null,null,null,{"$error":"#VALUE!"},{"$error":"#VALUE!"},true,"",null,{"$error":"#VALUE!"},{"$error":"#VALUE!"},true,"",null,{"$error":"#VALUE!"},{"$error":"#VALUE!"},true,"",null,{"$error":"#VALUE!"},{"$error":"#VALUE!"},true,"",null,{"$error":"#VALUE!"},{"$error":"#VALUE!"},true,"",null,{"$error":"#VALUE!"},{"$error":"#VALUE!"},true,"",null,{"$error":"#VALUE!"},{"$error":"#VALUE!"},true,"",null,{"$error":"#VALUE!"},{"$error":"#VALUE!"},true,"",null,{"$error":"#VALUE!"},{"$error":"#VALUE!"},true,"",null,{"$error":"#VALUE!"},{"$error":"#VALUE!"},true,"",null,{"$error":"#VALUE!"},{"$error":"#VALUE!"},true,""]
["Antwerpen",8,"BOECHOUT",571.79499999999996,40691.574000000001,null,10,null,null,null,null,{"$error":"#VALUE!"},{"$error":"#VALUE!"},true,"",null,{"$error":"#VALUE!"},{"$error":"#VALUE!"},true,"",null,{"$error":"#VALUE!"},{"$error":"#VALUE!"},true,"",null,{"$error":"#VALUE!"},{"$error":"#VALUE!"},true,"",null,{"$error":"#VALUE!"},{"$error":"#VALUE!"},true,"",null,{"$error":"#VALUE!"},{"$error":"#VALUE!"},true,"",null,{"$error":"#VALUE!"},{"$error":"#VALUE!"},true,"",null,{"$error":"#VALUE!"},{"$error":"#VALUE!"},true,"",null,{"$error":"#VALUE!"},{"$error":"#VALUE!"},true,"",null,{"$error":"#VALUE!"},{"$error":"#VALUE!"},true,"",null,{"$error":"#VALUE!"},{"$error":"#VALUE!"},true,""]
["Antwerpen",9,"BONHEIDEN",529.76,49666.112000000001,null,10,null,"DBLEZENfunctie1:",null,null,{"$error":"#VALUE!"},{"$error":"#VALUE!"},true,"",null,{"$error":"#VALUE!"},{"$error":"#VALUE!"},true,"",null,{"$error":"#VALUE!"},{"$error":"#VALUE!"},true,"",null,{"$error":"#VALUE!"},{"$error":"#VALUE!"},true,"",null,{"$error":"#VALUE!"},{"$error":"#VALUE!"},true,"",null,{"$error":"#VALUE!"},{"$error":"#VALUE!"},true,"",null,{"$error":"#VALUE!"},{"$error":"#VALUE!"},true,"",null,{"$error":"#VALUE!"},{"$error":"#VALUE!"},true,"",null,{"$error":"#VALUE!"},{"$error":"#VALUE!"},true,"",null,{"$error":"#VALUE!"},{"$error":"#VALUE!"},true,"",null,{"$error":"#VALUE!"},{"$error":"#VALUE!"},true,""]
["Antwerpen",10,"BOOM",18.04,2105.4499999999998,null,10,null,"Provincie",null,null,{"$error":"#VALUE!"},{"$error":"#VALUE!"},true,"",null,{"$error":"#VALUE!"},{"$error":"#VALUE!"},true,"",null,{"$error":"#VALUE!"},{"$error":"#VALUE!"},true,"",null,{"$error":"#VALUE!"},{"$error":"#VALUE!"},true,"",null,{"$error":"#VALUE!"},{"$error":"#VALUE!"},true,"",null,{"$error":"#VALUE!"},{"$error":"#VALUE!"},true,"",null,{"$error":"#VALUE!"},{"$error":"#VALUE!"},true,"",null,{"$error":"#VALUE!"},{"$error":"#VALUE!"},true,"",null,{"$error":"#VALUE!"},{"$error":"#VALUE!"},true,"",null,{"$error":"#VALUE!"},{"$error":"#VALUE!"},true,"",null,{"$error":"#VALUE!"},{"$error":"#VALUE!"},true,""]
["Antwerpen",11,"BORNEM",1053.6300000000001,122045.96649999998,null,10,null,{"$f":"DGET($I$1:$J$6,2,I15:I16)","v":{"$error":"#VALUE!"}},null,null,{"$f":"L11+1","v":{"$error":"#VALUE!"}},{"$error":"#VALUE!"},true,"",null,{"$error":"#VALUE!"},{"$error":"#VALUE!"},true,"",null,{"$error":"#VALUE!"},{"$error":"#VALUE!"},true,"",null,{"$error":"#VALUE!"},{"$error":"#VALUE!"},true,"",null,{"$error":"#VALUE!"},{"$error":"#VALUE!"},true,"",null,{"$error":"#VALUE!"},{"$error":"#VALUE!"},true,"",null,{"$error":"#VALUE!"},{"$error":"#VALUE!"},true,"",null,{"$error":"#VALUE!"},{"$error":"#VALUE!"},true,"",null,{"$error":"#VALUE!"},{"$error":"#VALUE!"},true,"",null,{"$error":"#VALUE!"},{"$error":"#VALUE!"},true,"",null,{"$error":"#VALUE!"},{"$error":"#VALUE!"},true,""]
["Antwerpen",12,"BORSBEEK",48.05,1346.162,null,10,null,null,null,null,{"$error":"#VALUE!"},{"$error":"#VALUE!"},true,"",null,{"$error":"#VALUE!"},{"$error":"#VALUE!"},true,"",null,{"$error":"#VALUE!"},{"$error":"#VALUE!"},true,"",null,{"$error":"#VALUE!"},{"$error":"#VALUE!"},true,"",null,{"$error":"#VALUE!"},{"$error":"#VALUE!"},true,"",null,{"$error":"#VALUE!"},{"$error":"#VALUE!"},true,"",null,{"$error":"#VALUE!"},{"$error":"#VALUE!"},true,"",null,{"$error":"#VALUE!"},{"$error":"#VALUE!"},true,"",null,{"$error":"#VALUE!"},{"$error":"#VALUE!"},true,"",null,{"$error":"#VALUE!"},{"$error":"#VALUE!"},true,"",null,{"$error":"#VALUE!"},{"$error":"#VALUE!"},true,""]
["Antwerpen",13,"BRASSCHAAT",122.51,11921.139500000001,null,10,null,"Criterium1",null,null,{"$error":"#VALUE!"},{"$error":"#VALUE!"},true,"",null,{"$error":"#VALUE!"},{"$error":"#VALUE!"},true,"",null,{"$error":"#VALUE!"},{"$error":"#VALUE!"},true,"",null,{"$error":"#VALUE!"},{"$error":"#VALUE!"},true,"",null,{"$error":"#VALUE!"},{"$error":"#VALUE!"},true,"",null,{"$error":"#VALUE!"},{"$error":"#VALUE!"},true,"",null,{"$error":"#VALUE!"},{"$error":"#VALUE!"},true,"",null,{"$error":"#VALUE!"},{"$error":"#VALUE!"},true,"",null,{"$error":"#VALUE!"},{"$error":"#VALUE!"},true,"",null,{"$error":"#VALUE!"},{"$error":"#VALUE!"},true,"",null,{"$error":"#VALUE!"},{"$error":"#VALUE!"},true,""]
["Antwerpen",14,"BRECHT",4735.83,1427061.226,null,20,null,"nr",null,null,{"$error":"#VALUE!"},{"$error":"#VALUE!"},true,"",null,{"$error":"#VALUE!"},{"$error":"#VALUE!"},true,"",null,{"$error":"#VALUE!"},{"$error":"#VALUE!"},true,"",null,{"$error":"#VALUE!"},{"$error":"#VALUE!"},true,"",null,{"$error":"#VALUE!"},{"$error":"#VALUE!"},true,"",null,{"$error":"#VALUE!"},{"$error":"#VALUE!"},true,"",null,{"$error":"#VALUE!"},{"$error":"#VALUE!"},true,"",null,{"$error":"#VALUE!"},{"$error":"#VALUE!"},true,"",null,{"$error":"#VALUE!"},{"$error":"#VALUE!"},true,"",null,{"$error":"#VALUE!"},{"$error":"#VALUE!"},true,"",null,{"$error":"#VALUE!"},{"$error":"#VALUE!"},true,""]
["Antwerpen",15,"DESSEL",1072.25,188144.41450000004,null,20,null,{"$f":"Mestverwerkingsplicht!D17","v":0},null,null,{"$error":"#VALUE!"},{"$error":"#VALUE!"},true,"",null,{"$error":"#VALUE!"},{"$error":"#VALUE!"},true,"",null,{"$error":"#VALUE!"},{"$error":"#VALUE!"},true,"",null,{"$error":"#VALUE!"},{"$error":"#VALUE!"},true,"",null,{"$error":"#VALUE!"},{"$error":"#VALUE!"},true,"",null,{"$error":"#VALUE!"},{"$error":"#VALUE!"},true,"",null,{"$error":"#VALUE!"},{"$error":"#VALUE!"},true,"",null,{"$error":"#VALUE!"},{"$error":"#VALUE!"},true,"",null,{"$error":"#VALUE!"},{"$error":"#VALUE!"},true,"",null,{"$error":"#VALUE!"},{"$error":"#VALUE!"},true,"",null,{"$error":"#VALUE!"},{"$error":"#VALUE!"},true,""]
["Antwerpen",16,"DUFFEL",411.55,42481.775999999998,null,10,null,null,null,null,{"$error":"#VALUE!"},{"$error":"#VALUE!"},true,"",null,{"$error":"#VALUE!"},{"$error":"#VALUE!"},true,"",null,{"$error":"#VALUE!"},{"$error":"#VALUE!"},true,"",null,{"$error":"#VALUE!"},{"$error":"#VALUE!"},true,"",null,{"$error":"#VALUE!"},{"$error":"#VALUE!"},true,"",null,{"$error":"#VALUE!"},{"$error":"#VALUE!"},true,"",null,{"$error":"#VALUE!"},{"$error":"#VALUE!"},true,"",null,{"$error":"#VALUE!"},{"$error":"#VALUE!"},true,"",null,{"$error":"#VALUE!"},{"$error":"#VALUE!"},true,"",null,{"$error":"#VALUE!"},{"$error":"#VALUE!"},true,"",null,{"$error":"#VALUE!"},{"$error":"#VALUE!"},true,""]
["Antwerpen",17,"EDEGEM",142.18,13533.7,null,10,null,"DBLEZENfunctie2:",null,null,{"$error":"#VALUE!"},{"$error":"#VALUE!"},true,"",null,{"$error":"#VALUE!"},{"$error":"#VALUE!"},true,"",null,{"$error":"#VALUE!"},{"$error":"#VALUE!"},true,"",null,{"$error":"#VALUE!"},{"$error":"#VALUE!"},true,"",null,{"$error":"#VALUE!"},{"$error":"#VALUE!"},true,"",null,{"$error":"#VALUE!"},{"$error":"#VALUE!"},true,"",null,{"$error":"#VALUE!"},{"$error":"#VALUE!"},true,"",null,{"$error":"#VALUE!"},{"$error":"#VALUE!"},true,"",null,{"$error":"#VALUE!"},{"$error":"#VALUE!"},true,"",null,{"$error":"#VALUE!"},{"$error":"#VALUE!"},true,"",null,{"$error":"#VALUE!"},{"$error":"#VALUE!"},true,""]
["Antwerpen",18,"ESSEN",2898.86,901380.32400000014,null,30,null,"Provincie",null,null,{"$error":"#VALUE!"},{"$error":"#VALUE!"},true,"",null,{"$error":"#VALUE!"},{"$error":"#VALUE!"},true,"",null,{"$error":"#VALUE!"},{"$error":"#VALUE!"},true,"",null,{"$error":"#VALUE!"},{"$error":"#VALUE!"},true,"",null,{"$error":"#VALUE!"},{"$error":"#VALUE!"},true,"",null,{"$error":"#VALUE!"},{"$error":"#VALUE!"},true,"",null,{"$error":"#VALUE!"},{"$error":"#VALUE!"},true,"",null,{"$error":"#VALUE!"},{"$error":"#VALUE!"},true,"",null,{"$error":"#VALUE!"},{"$error":"#VALUE!"},true,"",null,{"$error":"#VALUE!"},{"$error":"#VALUE!"},true,"",null,{"$error":"#VALUE!"},{"$error":"#VALUE!"},true,""]
["Antwerpen",19,"GEEL",4921.5200000000004,987698.04499999981,null,20,null,{"$f":"DGET($I$1:$J$6,2,I23:I24)","v":{"$error":"#VALUE!"}},null,null,{"$error":"#VALUE!"},{"$error":"#VALUE!"},true,"",null,{"$error":"#VALUE!"},{"$error":"#VALUE!"},true,"",null,{"$error":"#VALUE!"},{"$error":"#VALUE!"},true,"",null,{"$error":"#VALUE!"},{"$error":"#VALUE!"},true,"",null,{"$error":"#VALUE!"},{"$error":"#VALUE!"},true,"",null,{"$error":"#VALUE!"},{"$error":"#VALUE!"},true,"",null,{"$error":"#VALUE!"},{"$error":"#VALUE!"},true,"",null,{"$error":"#VALUE!"},{"$error":"#VALUE!"},true,"",null,{"$error":"#VALUE!"},{"$error":"#VALUE!"},true,"",null,{"$error":"#VALUE!"},{"$error":"#VALUE!"},true,"",null,{"$error":"#VALUE!"},{"$error":"#VALUE!"},true,""]
["Antwerpen",20,"GROBBENDONK",840.45500000000004,168406.54750000002,null,20,null,null,null,null,{"$error":"#VALUE!"},{"$error":"#VALUE!"},true,"",null,{"$error":"#VALUE!"},{"$error":"#VALUE!"},true,"",null,{"$error":"#VALUE!"},{"$error":"#VALUE!"},true,"",null,{"$error":"#VALUE!"},{"$error":"#VALUE!"},true,"",null,{"$error":"#VALUE!"},{"$error":"#VALUE!"},true,"",null,{"$error":"#VALUE!"},{"$error":"#VALUE!"},true,"",null,{"$error":"#VALUE!"},{"$error":"#VALUE!"},true,"",null,{"$error":"#VALUE!"},{"$error":"#VALUE!"},true,"",null,{"$error":"#VALUE!"},{"$error":"#VALUE!"},true,"",null,{"$error":"#VALUE!"},{"$error":"#VALUE!"},true,"",null,{"$error":"#VALUE!"},{"$error":"#VALUE!"},true,""]
["Antwerpen",21,"HEIST-OP-DEN-BERG",3041.88,426993.44549999991,null,10,null,"Criterium2",null,null,{"$error":"#VALUE!"},{"$error":"#VALUE!"},true,"",null,{"$error":"#VALUE!"},{"$error":"#VALUE!"},true,"",null,{"$error":"#VALUE!"},{"$error":"#VALUE!"},true,"",null,{"$error":"#VALUE!"},{"$error":"#VALUE!"},true,"",null,{"$error":"#VALUE!"},{"$error":"#VALUE!"},true,"",null,{"$error":"#VALUE!"},{"$error":"#VALUE!"},true,"",null,{"$error":"#VALUE!"},{"$error":"#VALUE!"},true,"",null,{"$error":"#VALUE!"},{"$error":"#VALUE!"},true,"",null,{"$error":"#VALUE!"},{"$error":"#VALUE!"},true,"",null,{"$error":"#VALUE!"},{"$error":"#VALUE!"},true,"",null,{"$error":"#VALUE!"},{"$error":"#VALUE!"},true,""]
["Antwerpen",22,"HEMIKSEM",4.5599999999999996,551.65,null,10,null,"nr",null,null,{"$error":"#VALUE!"},{"$error":"#VALUE!"},true,"",null,{"$error":"#VALUE!"},{"$error":"#VALUE!"},true,"",null,{"$error":"#VALUE!"},{"$error":"#VALUE!"},true,"",null,{"$error":"#VALUE!"},{"$error":"#VALUE!"},true,"",null,{"$error":"#VALUE!"},{"$error":"#VALUE!"},true,"",null,{"$error":"#VALUE!"},{"$error":"#VALUE!"},true,"",null,{"$error":"#VALUE!"},{"$error":"#VALUE!"},true,"",null,{"$error":"#VALUE!"},{"$error":"#VALUE!"},true,"",null,{"$error":"#VALUE!"},{"$error":"#VALUE!"},true,"",null,{"$error":"#VALUE!"},{"$error":"#VALUE!"},true,"",null,{"$error":"#VALUE!"},{"$error":"#VALUE!"},true,""]
["Antwerpen",23,"HERENTALS",1277.165,298616.23700000008,null,10,null,{"$f":"Mestverwerkingsplicht!D18","v":0},null,null,{"$error":"#VALUE!"},{"$error":"#VALUE!"},true,"",null,{"$error":"#VALUE!"},{"$error":"#VALUE!"},true,"",null,{"$error":"#VALUE!"},{"$error":"#VALUE!"},true,"",null,{"$error":"#VALUE!"},{"$error":"#VALUE!"},true,"",null,{"$error":"#VALUE!"},{"$error":"#VALUE!"},true,"",null,{"$error":"#VALUE!"},{"$error":"#VALUE!"},true,"",null,{"$error":"#VALUE!"},{"$error":"#VALUE!"},true,"",null,{"$error":"#VALUE!"},{"$error":"#VALUE!"},true,"",null,{"$error":"#VALUE!"},{"$error":"#VALUE!"},true,"",null,{"$error":"#VALUE!"},{"$error":"#VALUE!"},true,"",null,{"$error":"#VALUE!"},{"$error":"#VALUE!"},true,""]
["Antwerpen",24,"HERENTHOUT",1458.29,237556.72500000006,null,20,null,null,null,null,{"$error":"#VALUE!"},{"$error":"#VALUE!"},true,"",null,{"$error":"#VALUE!"},{"$error":"#VALUE!"},true,"",null,{"$error":"#VALUE!"},{"$error":"#VALUE!"},true,"",null,{"$error":"#VALUE!"},{"$error":"#VALUE!"},true,"",null,{"$error":"#VALUE!"},{"$error":"#VALUE!"},true,"",null,{"$error":"#VALUE!"},{"$error":"#VALUE!"},true,"",null,{"$error":"#VALUE!"},{"$error":"#VALUE!"},true,"",null,{"$error":"#VALUE!"},{"$error":"#VALUE!"},true,"",null,{"$error":"#VALUE!"},{"$error":"#VALUE!"},true,"",null,{"$error":"#VALUE!"},{"$error":"#VALUE!"},true,"",null,{"$error":"#VALUE!"},{"$error":"#VALUE!"},true,""]
["Antwerpen",25,"HERSELT",1477.145,269167.28149999998,null,10,null,"DBLEZENfunctie3:",null,null,{"$error":"#VALUE!"},{"$error":"#VALUE!"},true,"",null,{"$error":"#VALUE!"},{"$error":"#VALUE!"},true,"",null,{"$error":"#VALUE!"},{"$error":"#VALUE!"},true,"",null,{"$error":"#VALUE!"},{"$error":"#VALUE!"},true,"",null,{"$error":"#VALUE!"},{"$error":"#VALUE!"},true,"",null,{"$error":"#VALUE!"},{"$error":"#VALUE!"},true,"",null,{"$error":"#VALUE!"},{"$error":"#VALUE!"},true,"",null,{"$error":"#VALUE!"},{"$error":"#VALUE!"},true,"",null,{"$error":"#VALUE!"},{"$error":"#VALUE!"},true,"",null,{"$error":"#VALUE!"},{"$error":"#VALUE!"},true,"",null,{"$error":"#VALUE!"},{"$error":"#VALUE!"},true,""]
["Antwerpen",26,"HOOGSTRATEN",6613.9050000000043,3079703.2379999985,null,30,null,"Provincie",null,null,{"$error":"#VALUE!"},{"$error":"#VALUE!"},true,"",null,{"$error":"#VALUE!"},{"$error":"#VALUE!"},true,"",null,{"$error":"#VALUE!"},{"$error":"#VALUE!"},true,"",null,{"$error":"#VALUE!"},{"$error":"#VALUE!"},true,"",null,{"$error":"#VALUE!"},{"$error":"#VALUE!"},true,"",null,{"$error":"#VALUE!"},{"$error":"#VALUE!"},true,"",null,{"$error":"#VALUE!"},{"$error":"#VALUE!"},true,"",null,{"$error":"#VALUE!"},{"$error":"#VALUE!"},true,"",null,{"$error":"#VALUE!"},{"$error":"#VALUE!"},true,"",null,{"$error":"#VALUE!"},{"$error":"#VALUE!"},true,"",null,{"$error":"#VALUE!"},{"$error":"#VALUE!"},true,""]
["Antwerpen",27,"HOVE",297.95999999999998,35597.898000000001,null,30,null,{"$f":"DGET($I$1:$J$6,2,I31:I32)","v":{"$error":"#VALUE!"}},null,null,{"$error":"#VALUE!"},{"$error":"#VALUE!"},true,"",null,{"$error":"#VALUE!"},{"$error":"#VALUE!"},true,"",null,{"$error":"#VALUE!"},{"$error":"#VALUE!"},true,"",null,{"$error":"#VALUE!"},{"$error":"#VALUE!"},true,"",null,{"$error":"#VALUE!"},{"$error":"#VALUE!"},true,"",null,{"$error":"#VALUE!"},{"$error":"#VALUE!"},true,"",null,{"$error":"#VALUE!"},{"$error":"#VALUE!"},true,"",null,{"$error":"#VALUE!"},{"$error":"#VALUE!"},true,"",null,{"$error":"#VALUE!"},{"$error":"#VALUE!"},true,"",null,{"$error":"#VALUE!"},{"$error":"#VALUE!"},true,"",null,{"$error":"#VALUE!"},{"$error":"#VALUE!"},true,""]
["Antwerpen",28,"HULSHOUT",674.12,73618.67,null,10,null,null,null,null,{"$error":"#VALUE!"},{"$error":"#VALUE!"},true,"",null,{"$error":"#VALUE!"},{"$error":"#VALUE!"},true,"",null,{"$error":"#VALUE!"},{"$error":"#VALUE!"},true,"",null,{"$error":"#VALUE!"},{"$error":"#VALUE!"},true,"",null,{"$error":"#VALUE!"},{"$error":"#VALUE!"},true,"",null,{"$error":"#VALUE!"},{"$error":"#VALUE!"},true,"",null,{"$error":"#VALUE!"},{"$error":"#VALUE!"},true,"",null,{"$error":"#VALUE!"},{"$error":"#VALUE!"},true,"",null,{"$error":"#VALUE!"},{"$error":"#VALUE!"},true,"",null,{"$error":"#VALUE!"},{"$error":"#VALUE!"},true,"",null,{"$error":"#VALUE!"},{"$error":"#VALUE!"},true,""]
["Antwerpen",29,"KALMTHOUT",2655.92,792580.46850000008,null,20,null,"Criterium3",null,null,{"$error":"#VALUE!"},{"$error":"#VALUE!"},true,"",null,{"$error":"#VALUE!"},{"$error":"#VALUE!"},true,"",null,{"$error":"#VALUE!"},{"$error":"#VALUE!"},true,"",null,{"$error":"#VALUE!"},{"$error":"#VALUE!"},true,"",null,{"$error":"#VALUE!"},{"$error":"#VALUE!"},true,"",null,{"$error":"#VALUE!"},{"$error":"#VALUE!"},true,"",null,{"$error":"#VALUE!"},{"$error":"#VALUE!"},true,"",null,{"$error":"#VALUE!"},{"$error":"#VALUE!"},true,"",null,{"$error":"#VALUE!"},{"$error":"#VALUE!"},true,"",null,{"$error":"#VALUE!"},{"$error":"#VALUE!"},true,"",null,{"$error":"#VALUE!"},{"$error":"#VALUE!"},true,""]
["Antwerpen",30,"KAPELLEN",390.86,33120.156500000005,null,10,null,"nr",null,null,{"$error":"#VALUE!"},{"$error":"#VALUE!"},true,"",null,{"$error":"#VALUE!"},{"$error":"#VALUE!"},true,"",null,{"$error":"#VALUE!"},{"$error":"#VALUE!"},true,"",null,{"$error":"#VALUE!"},{"$error":"#VALUE!"},true,"",null,{"$error":"#VALUE!"},{"$error":"#VALUE!"},true,"",null,{"$error":"#VALUE!"},{"$error":"#VALUE!"},true,"",null,{"$error":"#VALUE!"},{"$error":"#VALUE!"},true,"",null,{"$error":"#VALUE!"},{"$error":"#VALUE!"},true,"",null,{"$error":"#VALUE!"},{"$error":"#VALUE!"},true,"",null,{"$error":"#VALUE!"},{"$error":"#VALUE!"},true,"",null,{"$error":"#VALUE!"},{"$error":"#VALUE!"},true,""]
["Antwerpen",31,"KASTERLEE",3312.05,950150.04299999995,null,20,null,{"$f":"Mestverwerkingsplicht!D19","v":0},null,null,{"$error":"#VALUE!"},{"$error":"#VALUE!"},true,"",null,{"$error":"#VALUE!"},{"$error":"#VALUE!"},true,"",null,{"$error":"#VALUE!"},{"$error":"#VALUE!"},true,"",null,{"$error":"#VALUE!"},{"$error":"#VALUE!"},true,"",null,{"$error":"#VALUE!"},{"$error":"#VALUE!"},true,"",null,{"$error":"#VALUE!"},{"$error":"#VALUE!"},true,"",null,{"$error":"#VALUE!"},{"$error":"#VALUE!"},true,"",null,{"$error":"#VALUE!"},{"$error":"#VALUE!"},true,"",null,{"$error":"#VALUE!"},{"$error":"#VALUE!"},true,"",null,{"$error":"#VALUE!"},{"$error":"#VALUE!"},true,"",null,{"$error":"#VALUE!"},{"$error":"#VALUE!"},true,""]
["Antwerpen",32,"KONTICH",853.75,152688.47500000001,null,20,null,null,null,null,{"$error":"#VALUE!"},{"$error":"#VALUE!"},true,"",null,{"$error":"#VALUE!"},{"$error":"#VALUE!"},true,"",null,{"$error":"#VALUE!"},{"$error":"#VALUE!"},true,"",null,{"$error":"#VALUE!"},{"$error":"#VALUE!"},true,"",null,{"$error":"#VALUE!"},{"$error":"#VALUE!"},true,"",null,{"$error":"#VALUE!"},{"$error":"#VALUE!"},true,"",null,{"$error":"#VALUE!"},{"$error":"#VALUE!"},true,"",null,{"$error":"#VALUE!"},{"$error":"#VALUE!"},true,"",null,{"$error":"#VALUE!"},{"$error":"#VALUE!"},true,"",null,{"$error":"#VALUE!"},{"$error":"#VALUE!"},true,"",null,{"$error":"#VALUE!"},{"$error":"#VALUE!"},true,""]
["Antwerpen",33,"LAAKDAL",1273.325,223809.54750000002,null,10,null,"DBLEZENfunctie4:",null,null,{"$error":"#VALUE!"},{"$f":"VLOOKUP(L34,$B$1:$G$302,2,FALSE)","v":{"$error":"#VALUE!"}},true,"",null,{"$error":"#VALUE!"},{"$f":"VLOOKUP(Q34,$B$1:$G$302,2,FALSE)","v":{"$error":"#VALUE!"}},true,"",null,{"$error":"#VALUE!"},{"$f":"VLOOKUP(V34,$B$1:$G$302,2,FALSE)","v":{"$error":"#VALUE!"}},true,"",null,{"$error":"#VALUE!"},{"$f":"VLOOKUP(AA34,$B$1:$G$302,2,FALSE)","v":{"$error":"#VALUE!"}},true,"",null,{"$error":"#VALUE!"},{"$f":"VLOOKUP(AF34,$B$1:$G$302,2,FALSE)","v":{"$error":"#VALUE!"}},true,"",null,{"$error":"#VALUE!"},{"$f":"VLOOKUP(AK34,$B$1:$G$302,2,FALSE)","v":{"$error":"#VALUE!"}},true,"",null,{"$error":"#VALUE!"},{"$f":"VLOOKUP(AP34,$B$1:$G$302,2,FALSE)","v":{"$error":"#VALUE!"}},true,"",null,{"$error":"#VALUE!"},{"$f":"VLOOKUP(AU34,$B$1:$G$302,2,FALSE)","v":{"$error":"#VALUE!"}},true,"",null,{"$error":"#VALUE!"},{"$f":"VLOOKUP(AZ34,$B$1:$G$302,2,FALSE)","v":{"$error":"#VALUE!"}},true,"",null,{"$error":"#VALUE!"},{"$f":"VLOOKUP(BE34,$B$1:$G$302,2,FALSE)","v":{"$error":"#VALUE!"}},true,"",null,{"$error":"#VALUE!"},{"$f":"VLOOKUP(BJ34,$B$1:$G$302,2,FALSE)","v":{"$error":"#VALUE!"}},true,""]
["Antwerpen",34,"LIER",1702.32,188825.55349999992,null,10,null,"Provincie",null,null,{"$error":"#VALUE!"},{"$error":"#VALUE!"},true,"",null,{"$error":"#VALUE!"},{"$error":"#VALUE!"},true,"",null,{"$error":"#VALUE!"},{"$error":"#VALUE!"},true,"",null,{"$error":"#VALUE!"},{"$error":"#VALUE!"},true,"",null,{"$error":"#VALUE!"},{"$error":"#VALUE!"},true,"",null,{"$error":"#VALUE!"},{"$error":"#VALUE!"},true,"",null,{"$error":"#VALUE!"},{"$error":"#VALUE!"},true,"",null,{"$error":"#VALUE!"},{"$error":"#VALUE!"},true,"",null,{"$error":"#VALUE!"},{"$error":"#VALUE!"},true,"",null,{"$error":"#VALUE!"},{"$error":"#VALUE!"},true,"",null,{"$error":"#VALUE!"},{"$error":"#VALUE!"},true,""]
["Antwerpen",35,"LILLE",1695.45,528921.12750000006,null,20,null,{"$f":"DGET($I$1:$J$6,2,I39:I40)","v":{"$error":"#VALUE!"}},null,null,{"$error":"#VALUE!"},{"$error":"#VALUE!"},true,"",null,{"$error":"#VALUE!"},{"$error":"#VALUE!"},true,"",null,{"$error":"#VALUE!"},{"$error":"#VALUE!"},true,"",null,{"$error":"#VALUE!"},{"$error":"#VALUE!"},true,"",null,{"$error":"#VALUE!"},{"$error":"#VALUE!"},true,"",null,{"$error":"#VALUE!"},{"$error":"#VALUE!"},true,"",null,{"$error":"#VALUE!"},{"$error":"#VALUE!"},true,"",null,{"$error":"#VALUE!"},{"$error":"#VALUE!"},true,"",null,{"$error":"#VALUE!"},{"$error":"#VALUE!"},true,"",null,{"$error":"#VALUE!"},{"$error":"#VALUE!"},true,"",null,{"$error":"#VALUE!"},{"$error":"#VALUE!"},true,""]
["Antwerpen",36,"LINT",70.674999999999997,6008.2250000000004,null,10,null,null,null,null,{"$error":"#VALUE!"},{"$error":"#VALUE!"},true,"",null,{"$error":"#VALUE!"},{"$error":"#VALUE!"},true,"",null,{"$error":"#VALUE!"},{"$error":"#VALUE!"},true,"",null,{"$error":"#VALUE!"},{"$error":"#VALUE!"},true,"",null,{"$error":"#VALUE!"},{"$error":"#VALUE!"},true,"",null,{"$error":"#VALUE!"},{"$error":"#VALUE!"},true,"",null,{"$error":"#VALUE!"},{"$error":"#VALUE!"},true,"",null,{"$error":"#VALUE!"},{"$error":"#VALUE!"},true,"",null,{"$error":"#VALUE!"},{"$error":"#VALUE!"},true,"",null,{"$error":"#VALUE!"},{"$error":"#VALUE!"},true,"",null,{"$error":"#VALUE!"},{"$error":"#VALUE!"},true,""]
["Antwerpen",37,"MALLE",2379.17,576311.39,null,20,null,"Criterium4",null,null,{"$error":"#VALUE!"},{"$error":"#VALUE!"},true,"",null,{"$error":"#VALUE!"},{"$error":"#VALUE!"},true,"",null,{"$error":"#VALUE!"},{"$error":"#VALUE!"},true,"",null,{"$error":"#VALUE!"},{"$error":"#VALUE!"},true,"",null,{"$error":"#VALUE!"},{"$error":"#VALUE!"},true,"",null,{"$error":"#VALUE!"},{"$error":"#VALUE!"},true,"",null,{"$error":"#VALUE!"},{"$error":"#VALUE!"},true,"",null,{"$error":"#VALUE!"},{"$error":"#VALUE!"},true,"",null,{"$error":"#VALUE!"},{"$error":"#VALUE!"},true,"",null,{"$error":"#VALUE!"},{"$error":"#VALUE!"},true,"",null,{"$error":"#VALUE!"},{"$error":"#VALUE!"},true,""]
["Antwerpen",38,"MECHELEN",1841.675,122436.77949999996,null,10,null,"nr",null,null,{"$error":"#VALUE!"},{"$error":"#VALUE!"},true,"",null,{"$error":"#VALUE!"},{"$error":"#VALUE!"},true,"",null,{"$error":"#VALUE!"},{"$error":"#VALUE!"},true,"",null,{"$error":"#VALUE!"},{"$error":"#VALUE!"},true,"",null,{"$error":"#VALUE!"},{"$error":"#VALUE!"},true,"",null,{"$error":"#VALUE!"},{"$error":"#VALUE!"},true,"",null,{"$error":"#VALUE!"},{"$error":"#VALUE!"},true,"",null,{"$error":"#VALUE!"},{"$error":"#VALUE!"},true,"",null,{"$error":"#VALUE!"},{"$error":"#VALUE!"},true,"",null,{"$error":"#VALUE!"},{"$error":"#VALUE!"},true,"",null,{"$error":"#VALUE!"},{"$error":"#VALUE!"},true,""]
["Antwerpen",39,"MEERHOUT",1899.45,348484.98050000001,null,20,null,{"$f":"Mestverwerkingsplicht!D20","v":0},null,null,{"$error":"#VALUE!"},{"$error":"#VALUE!"},true,"",null,{"$error":"#VALUE!"},{"$error":"#VALUE!"},true,"",null,{"$error":"#VALUE!"},{"$error":"#VALUE!"},true,"",null,{"$error":"#VALUE!"},{"$error":"#VALUE!"},true,"",null,{"$error":"#VALUE!"},{"$error":"#VALUE!"},true,"",null,{"$error":"#VALUE!"},{"$error":"#VALUE!"},true,"",null,{"$error":"#VALUE!"},{"$error":"#VALUE!"},true,"",null,{"$error":"#VALUE!"},{"$error":"#VALUE!"},true,"",null,{"$error":"#VALUE!"},{"$error":"#VALUE!"},true,"",null,{"$error":"#VALUE!"},{"$error":"#VALUE!"},true,"",null,{"$error":"#VALUE!"},{"$error":"#VALUE!"},true,""]
["Antwerpen",40,"MERKSPLAS",3136.9150000000009,1333457.0244999994,null,30,null,null,null,null,{"$error":"#VALUE!"},{"$error":"#VALUE!"},true,"",null,{"$error":"#VALUE!"},{"$error":"#VALUE!"},true,"",null,{"$error":"#VALUE!"},{"$error":"#VALUE!"},true,"",null,{"$error":"#VALUE!"},{"$error":"#VALUE!"},true,"",null,{"$error":"#VALUE!"},{"$error":"#VALUE!"},true,"",null,{"$error":"#VALUE!"},{"$error":"#VALUE!"},true,"",null,{"$error":"#VALUE!"},{"$error":"#VALUE!"},true,"",null,{"$error":"#VALUE!"},{"$error":"#VALUE!"},true,"",null,{"$error":"#VALUE!"},{"$error":"#VALUE!"},true,"",null,{"$error":"#VALUE!"},{"$error":"#VALUE!"},true,"",null,{"$error":"#VALUE!"},{"$error":"#VALUE!"},true,""]
["Antwerpen",41,"MOL",2070.5149999999999,274333.86200000008,null,10,null,"DBLEZENfunctie5:",null,null,{"$error":"#VALUE!"},{"$error":"#VALUE!"},true,"",null,{"$error":"#VALUE!"},{"$error":"#VALUE!"},true,"",null,{"$error":"#VALUE!"},{"$error":"#VALUE!"},true,"",null,{"$error":"#VALUE!"},{"$error":"#VALUE!"},true,"",null,{"$error":"#VALUE!"},{"$error":"#VALUE!"},true,"",null,{"$error":"#VALUE!"},{"$error":"#VALUE!"},true,"",null,{"$error":"#VALUE!"},{"$error":"#VALUE!"},true,"",null,{"$error":"#VALUE!"},{"$error":"#VALUE!"},true,"",null,{"$error":"#VALUE!"},{"$error":"#VALUE!"},true,"",null,{"$error":"#VALUE!"},{"$error":"#VALUE!"},true,"",null,{"$error":"#VALUE!"},{"$error":"#VALUE!"},true,""]
["Antwerpen",42,"MORTSEL",149.37,20393.233999999997,null,20,null,"Provincie",null,null,{"$error":"#VALUE!"},{"$error":"#VALUE!"},true,"",null,{"$error":"#VALUE!"},{"$error":"#VALUE!"},true,"",null,{"$error":"#VALUE!"},{"$error":"#VALUE!"},true,"",null,{"$error":"#VALUE!"},{"$error":"#VALUE!"},true,"",null,{"$error":"#VALUE!"},{"$error":"#VALUE!"},true,"",null,{"$error":"#VALUE!"},{"$error":"#VALUE!"},true,"",null,{"$error":"#VALUE!"},{"$error":"#VALUE!"},true,"",null,{"$error":"#VALUE!"},{"$error":"#VALUE!"},true,"",null,{"$error":"#VALUE!"},{"$error":"#VALUE!"},true,"",null,{"$error":"#VALUE!"},{"$error":"#VALUE!"},true,"",null,{"$error":"#VALUE!"},{"$error":"#VALUE!"},true,""]
["Antwerpen",43,"NIEL",2.2200000000000002,576.98,null,10,null,{"$f":"DGET($I$1:$J$6,2,I47:I48)","v":{"$error":"#VALUE!"}},null,null,{"$error":"#VALUE!"},{"$error":"#VALUE!"},true,"",null,{"$error":"#VALUE!"},{"$error":"#VALUE!"},true,"",null,{"$error":"#VALUE!"},{"$error":"#VALUE!"},true,"",null,{"$error":"#VALUE!"},{"$error":"#VALUE!"},true,"",null,{"$error":"#VALUE!"},{"$error":"#VALUE!"},true,"",null,{"$error":"#VALUE!"},{"$error":"#VALUE!"},true,"",null,{"$error":"#VALUE!"},{"$error":"#VALUE!"},true,"",null,{"$error":"#VALUE!"},{"$error":"#VALUE!"},true,"",null,{"$error":"#VALUE!"},{"$error":"#VALUE!"},true,"",null,{"$error":"#VALUE!"},{"$error":"#VALUE!"},true,"",null,{"$error":"#VALUE!"},{"$error":"#VALUE!"},true,""]
["Antwerpen",44,"NIJLEN",1285.2,162694.76850000003,null,10,null,null,null,null,{"$error":"#VALUE!"},{"$error":"#VALUE!"},true,"",null,{"$error":"#VALUE!"},{"$error":"#VALUE!"},true,"",null,{"$error":"#VALUE!"},{"$error":"#VALUE!"},true,"",null,{"$error":"#VALUE!"},{"$error":"#VALUE!"},true,"",null,{"$error":"#VALUE!"},{"$error":"#VALUE!"},true,"",null,{"$error":"#VALUE!"},{"$error":"#VALUE!"},true,"",null,{"$error":"#VALUE!"},{"$error":"#VALUE!"},true,"",null,{"$error":"#VALUE!"},{"$error":"#VALUE!"},true,"",null,{"$error":"#VALUE!"},{"$error":"#VALUE!"},true,"",null,{"$error":"#VALUE!"},{"$error":"#VALUE!"},true,"",null,{"$error":"#VALUE!"},{"$error":"#VALUE!"},true,""]
["Antwerpen",45,"OLEN",553.29,90760.900500000003,null,20,null,"Criterium5",null,null,{"$error":"#VALUE!"},{"$error":"#VALUE!"},true,"",null,{"$error":"#VALUE!"},{"$error":"#VALUE!"},true,"",null,{"$error":"#VALUE!"},{"$error":"#VALUE!"},true,"",null,{"$error":"#VALUE!"},{"$error":"#VALUE!"},true,"",null,{"$error":"#VALUE!"},{"$error":"#VALUE!"},true,"",null,{"$error":"#VALUE!"},{"$error":"#VALUE!"},true,"",null,{"$error":"#VALUE!"},{"$error":"#VALUE!"},true,"",null,{"$error":"#VALUE!"},{"$error":"#VALUE!"},true,"",null,{"$error":"#VALUE!"},{"$error":"#VALUE!"},true,"",null,{"$error":"#VALUE!"},{"$error":"#VALUE!"},true,"",null,{"$error":"#VALUE!"},{"$error":"#VALUE!"},true,""]
["Antwerpen",46,"OUD-TURNHOUT",1593.7,443856.75699999993,null,20,null,"nr",null,null,{"$error":"#VALUE!"},{"$error":"#VALUE!"},true,"",null,{"$error":"#VALUE!"},{"$error":"#VALUE!"},true,"",null,{"$error":"#VALUE!"},{"$error":"#VALUE!"},true,"",null,{"$error":"#VALUE!"},{"$error":"#VALUE!"},true,"",null,{"$error":"#VALUE!"},{"$error":"#VALUE!"},true,"",null,{"$error":"#VALUE!"},{"$error":"#VALUE!"},true,"",null,{"$error":"#VALUE!"},{"$error":"#VALUE!"},true,"",null,{"$error":"#VALUE!"},{"$error":"#VALUE!"},true,"",null,{"$error":"#VALUE!"},{"$error":"#VALUE!"},true,"",null,{"$error":"#VALUE!"},{"$error":"#VALUE!"},true,"",null,{"$error":"#VALUE!"},{"$error":"#VALUE!"},true,""]
["Antwerpen",47,"PUTTE",1381.75,158133.5325,null,10,null,{"$f":"Mestverwerkingsplicht!D21","v":0},null,null,{"$error":"#VALUE!"},{"$error":"#VALUE!"},true,"",null,{"$error":"#VALUE!"},{"$error":"#VALUE!"},true,"",null,{"$error":"#VALUE!"},{"$error":"#VALUE!"},true,"",null,{"$error":"#VALUE!"},{"$error":"#VALUE!"},true,"",null,{"$error":"#VALUE!"},{"$error":"#VALUE!"},true,"",null,{"$error":"#VALUE!"},{"$error":"#VALUE!"},true,"",null,{"$error":"#VALUE!"},{"$error":"#VALUE!"},true,"",null,{"$error":"#VALUE!"},{"$error":"#VALUE!"},true,"",null,{"$error":"#VALUE!"},{"$error":"#VALUE!"},true,"",null,{"$error":"#VALUE!"},{"$error":"#VALUE!"},true,"",null,{"$error":"#VALUE!"},{"$error":"#VALUE!"},true,""]
["Antwerpen",48,"PUURS - SINT-AMANDS",1029.03,76300.887500000012,null,10,null,null,null,null,{"$error":"#VALUE!"},{"$error":"#VALUE!"},true,"",null,{"$error":"#VALUE!"},{"$error":"#VALUE!"},true,"",null,{"$error":"#VALUE!"},{"$error":"#VALUE!"},true,"",null,{"$error":"#VALUE!"},{"$error":"#VALUE!"},true,"",null,{"$error":"#VALUE!"},{"$error":"#VALUE!"},true,"",null,{"$error":"#VALUE!"},{"$error":"#VALUE!"},true,"",null,{"$error":"#VALUE!"},{"$error":"#VALUE!"},true,"",null,{"$error":"#VALUE!"},{"$error":"#VALUE!"},true,"",null,{"$error":"#VALUE!"},{"$error":"#VALUE!"},true,"",null,{"$error":"#VALUE!"},{"$error":"#VALUE!"},true,"",null,{"$error":"#VALUE!"},{"$error":"#VALUE!"},true,""]
["Antwerpen",49,"RANST",1357.83,216064.101,null,10,null,"DBLEZENfunctie6:",null,null,{"$error":"#VALUE!"},{"$error":"#VALUE!"},true,"",null,{"$error":"#VALUE!"},{"$error":"#VALUE!"},true,"",null,{"$error":"#VALUE!"},{"$error":"#VALUE!"},true,"",null,{"$error":"#VALUE!"},{"$error":"#VALUE!"},true,"",null,{"$error":"#VALUE!"},{"$error":"#VALUE!"},true,"",null,{"$error":"#VALUE!"},{"$error":"#VALUE!"},true,"",null,{"$error":"#VALUE!"},{"$error":"#VALUE!"},true,"",null,{"$error":"#VALUE!"},{"$error":"#VALUE!"},true,"",null,{"$error":"#VALUE!"},{"$error":"#VALUE!"},true,"",null,{"$error":"#VALUE!"},{"$error":"#VALUE!"},true,"",null,{"$error":"#VALUE!"},{"$error":"#VALUE!"},true,""]
["Antwerpen",50,"RAVELS",4942.8050000000003,2187582.5249999985,null,30,null,"Provincie",null,null,{"$error":"#VALUE!"},{"$error":"#VALUE!"},true,"",null,{"$error":"#VALUE!"},{"$error":"#VALUE!"},true,"",null,{"$error":"#VALUE!"},{"$error":"#VALUE!"},true,"",null,{"$error":"#VALUE!"},{"$error":"#VALUE!"},true,"",null,{"$error":"#VALUE!"},{"$error":"#VALUE!"},true,"",null,{"$error":"#VALUE!"},{"$error":"#VALUE!"},true,"",null,{"$error":"#VALUE!"},{"$error":"#VALUE!"},true,"",null,{"$error":"#VALUE!"},{"$error":"#VALUE!"},true,"",null,{"$error":"#VALUE!"},{"$error":"#VALUE!"},true,"",null,{"$error":"#VALUE!"},{"$error":"#VALUE!"},true,"",null,{"$error":"#VALUE!"},{"$error":"#VALUE!"},true,""]
["Antwerpen",51,"RETIE",2288.0549999999998,571995.95700000017,null,20,null,{"$f":"DGET($I$1:$J$6,2,I55:I56)","v":{"$error":"#VALUE!"}},null,null,{"$error":"#VALUE!"},{"$error":"#VALUE!"},true,"",null,{"$error":"#VALUE!"},{"$error":"#VALUE!"},true,"",null,{"$error":"#VALUE!"},{"$error":"#VALUE!"},true,"",null,{"$error":"#VALUE!"},{"$error":"#VALUE!"},true,"",null,{"$error":"#VALUE!"},{"$error":"#VALUE!"},true,"",null,{"$error":"#VALUE!"},{"$error":"#VALUE!"},true,"",null,{"$error":"#VALUE!"},{"$error":"#VALUE!"},true,"",null,{"$error":"#VALUE!"},{"$error":"#VALUE!"},true,"",null,{"$error":"#VALUE!"},{"$error":"#VALUE!"},true,"",null,{"$error":"#VALUE!"},{"$error":"#VALUE!"},true,"",null,{"$error":"#VALUE!"},{"$error":"#VALUE!"},true,""]
["Antwerpen",52,"RIJKEVORSEL",2950,1063144.2404999994,null,30,null,null,null,null,{"$error":"#VALUE!"},{"$error":"#VALUE!"},true,"",null,{"$error":"#VALUE!"},{"$error":"#VALUE!"},true,"",null,{"$error":"#VALUE!"},{"$error":"#VALUE!"},true,"",null,{"$error":"#VALUE!"},{"$error":"#VALUE!"},true,"",null,{"$error":"#VALUE!"},{"$error":"#VALUE!"},true,"",null,{"$error":"#VALUE!"},{"$error":"#VALUE!"},true,"",null,{"$error":"#VALUE!"},{"$error":"#VALUE!"},true,"",null,{"$error":"#VALUE!"},{"$error":"#VALUE!"},true,"",null,{"$error":"#VALUE!"},{"$error":"#VALUE!"},true,"",null,{"$error":"#VALUE!"},{"$error":"#VALUE!"},true,"",null,{"$error":"#VALUE!"},{"$error":"#VALUE!"},true,""]
["Antwerpen",53,"RUMST",667.2,106067.36899999999,null,20,null,"Criterium6",null,null,{"$error":"#VALUE!"},{"$error":"#VALUE!"},true,"",null,{"$error":"#VALUE!"},{"$error":"#VALUE!"},true,"",null,{"$error":"#VALUE!"},{"$error":"#VALUE!"},true,"",null,{"$error":"#VALUE!"},{"$error":"#VALUE!"},true,"",null,{"$error":"#VALUE!"},{"$error":"#VALUE!"},true,"",null,{"$error":"#VALUE!"},{"$error":"#VALUE!"},true,"",null,{"$error":"#VALUE!"},{"$error":"#VALUE!"},true,"",null,{"$error":"#VALUE!"},{"$error":"#VALUE!"},true,"",null,{"$error":"#VALUE!"},{"$error":"#VALUE!"},true,"",null,{"$error":"#VALUE!"},{"$error":"#VALUE!"},true,"",null,{"$error":"#VALUE!"},{"$error":"#VALUE!"},true,""]
["Antwerpen",54,"SCHELLE",264.63499999999999,27113.061999999998,null,10,null,"nr",null,null,{"$error":"#VALUE!"},{"$error":"#VALUE!"},true,"",null,{"$error":"#VALUE!"},{"$error":"#VALUE!"},true,"",null,{"$error":"#VALUE!"},{"$error":"#VALUE!"},true,"",null,{"$error":"#VALUE!"},{"$error":"#VALUE!"},true,"",null,{"$error":"#VALUE!"},{"$error":"#VALUE!"},true,"",null,{"$error":"#VALUE!"},{"$error":"#VALUE!"},true,"",null,{"$error":"#VALUE!"},{"$error":"#VALUE!"},true,"",null,{"$error":"#VALUE!"},{"$error":"#VALUE!"},true,"",null,{"$error":"#VALUE!"},{"$error":"#VALUE!"},true,"",null,{"$error":"#VALUE!"},{"$error":"#VALUE!"},true,"",null,{"$error":"#VALUE!"},{"$error":"#VALUE!"},true,""]
["Antwerpen",55,"SCHILDE",303.54000000000002,36362.847000000002,null,10,null,{"$f":"Mestverwerkingsplicht!D22","v":0},null,null,{"$error":"#VALUE!"},{"$error":"#VALUE!"},true,"",null,{"$error":"#VALUE!"},{"$error":"#VALUE!"},true,"",null,{"$error":"#VALUE!"},{"$error":"#VALUE!"},true,"",null,{"$error":"#VALUE!"},{"$error":"#VALUE!"},true,"",null,{"$error":"#VALUE!"},{"$error":"#VALUE!"},true,"",null,{"$error":"#VALUE!"},{"$error":"#VALUE!"},true,"",null,{"$error":"#VALUE!"},{"$error":"#VALUE!"},true,"",null,{"$error":"#VALUE!"},{"$error":"#VALUE!"},true,"",null,{"$error":"#VALUE!"},{"$error":"#VALUE!"},true,"",null,{"$error":"#VALUE!"},{"$error":"#VALUE!"},true,"",null,{"$error":"#VALUE!"},{"$error":"#VALUE!"},true,""]
["Antwerpen",56,"SCHOTEN",152.75,9242.56,null,10,null,null,null,null,{"$error":"#VALUE!"},{"$error":"#VALUE!"},true,"",null,{"$error":"#VALUE!"},{"$error":"#VALUE!"},true,"",null,{"$error":"#VALUE!"},{"$error":"#VALUE!"},true,"",null,{"$error":"#VALUE!"},{"$error":"#VALUE!"},true,"",null,{"$error":"#VALUE!"},{"$error":"#VALUE!"},true,"",null,{"$error":"#VALUE!"},{"$error":"#VALUE!"},true,"",null,{"$error":"#VALUE!"},{"$error":"#VALUE!"},true,"",null,{"$error":"#VALUE!"},{"$error":"#VALUE!"},true,"",null,{"$error":"#VALUE!"},{"$error":"#VALUE!"},true,"",null,{"$error":"#VALUE!"},{"$error":"#VALUE!"},true,"",null,{"$error":"#VALUE!"},{"$error":"#VALUE!"},true,""]
["Antwerpen",57,"SINT-KATELIJNE-WAVER",1053.7650000000001,105939.56299999999,null,10,null,"DBLEZENfunctie7:",null,null,{"$error":"#VALUE!"},{"$error":"#VALUE!"},true,"",null,{"$error":"#VALUE!"},{"$error":"#VALUE!"},true,"",null,{"$error":"#VALUE!"},{"$error":"#VALUE!"},true,"",null,{"$error":"#VALUE!"},{"$error":"#VALUE!"},true,"",null,{"$error":"#VALUE!"},{"$error":"#VALUE!"},true,"",null,{"$error":"#VALUE!"},{"$error":"#VALUE!"},true,"",null,{"$error":"#VALUE!"},{"$error":"#VALUE!"},true,"",null,{"$error":"#VALUE!"},{"$error":"#VALUE!"},true,"",null,{"$error":"#VALUE!"},{"$error":"#VALUE!"},true,"",null,{"$error":"#VALUE!"},{"$error":"#VALUE!"},true,"",null,{"$error":"#VALUE!"},{"$error":"#VALUE!"},true,""]
["Antwerpen",58,"STABROEK",1352.12,120588.02100000001,null,10,null,"Provincie",null,null,{"$error":"#VALUE!"},{"$error":"#VALUE!"},true,"",null,{"$error":"#VALUE!"},{"$error":"#VALUE!"},true,"",null,{"$error":"#VALUE!"},{"$error":"#VALUE!"},true,"",null,{"$error":"#VALUE!"},{"$error":"#VALUE!"},true,"",null,{"$error":"#VALUE!"},{"$error":"#VALUE!"},true,"",null,{"$error":"#VALUE!"},{"$error":"#VALUE!"},true,"",null,{"$error":"#VALUE!"},{"$error":"#VALUE!"},true,"",null,{"$error":"#VALUE!"},{"$error":"#VALUE!"},true,"",null,{"$error":"#VALUE!"},{"$error":"#VALUE!"},true,"",null,{"$error":"#VALUE!"},{"$error":"#VALUE!"},true,"",null,{"$error":"#VALUE!"},{"$error":"#VALUE!"},true,""]
["Antwerpen",59,"TURNHOUT",1248.58,384418.72200000001,null,20,null,{"$f":"DGET($I$1:$J$6,2,I63:I64)","v":{"$error":"#VALUE!"}},null,null,{"$error":"#VALUE!"},{"$error":"#VALUE!"},true,"",null,{"$error":"#VALUE!"},{"$error":"#VALUE!"},true,"",null,{"$error":"#VALUE!"},{"$error":"#VALUE!"},true,"",null,{"$error":"#VALUE!"},{"$error":"#VALUE!"},true,"",null,{"$error":"#VALUE!"},{"$error":"#VALUE!"},true,"",null,{"$error":"#VALUE!"},{"$error":"#VALUE!"},true,"",null,{"$error":"#VALUE!"},{"$error":"#VALUE!"},true,"",null,{"$error":"#VALUE!"},{"$error":"#VALUE!"},true,"",null,{"$error":"#VALUE!"},{"$error":"#VALUE!"},true,"",null,{"$error":"#VALUE!"},{"$error":"#VALUE!"},true,"",null,{"$error":"#VALUE!"},{"$error":"#VALUE!"},true,""]
["Antwerpen",60,"VORSELAAR",1355.845,256637.16800000001,null,20,null,null,null,null,{"$error":"#VALUE!"},{"$error":"#VALUE!"},true,"",null,{"$error":"#VALUE!"},{"$error":"#VALUE!"},true,"",null,{"$error":"#VALUE!"},{"$error":"#VALUE!"},true,"",null,{"$error":"#VALUE!"},{"$error":"#VALUE!"},true,"",null,{"$error":"#VALUE!"},{"$error":"#VALUE!"},true,"",null,{"$error":"#VALUE!"},{"$error":"#VALUE!"},true,"",null,{"$error":"#VALUE!"},{"$error":"#VALUE!"},true,"",null,{"$error":"#VALUE!"},{"$error":"#VALUE!"},true,"",null,{"$error":"#VALUE!"},{"$error":"#VALUE!"},true,"",null,{"$error":"#VALUE!"},{"$error":"#VALUE!"},true,"",null,{"$error":"#VALUE!"},{"$error":"#VALUE!"},true,""]
["Antwerpen",61,"VOSSELAAR",197.08,65665.109500000006,null,20,null,"Criterium7",null,null,{"$error":"#VALUE!"},{"$error":"#VALUE!"},true,"",null,{"$error":"#VALUE!"},{"$error":"#VALUE!"},true,"",null,{"$error":"#VALUE!"},{"$error":"#VALUE!"},true,"",null,{"$error":"#VALUE!"},{"$error":"#VALUE!"},true,"",null,{"$error":"#VALUE!"},{"$error":"#VALUE!"},true,"",null,{"$error":"#VALUE!"},{"$error":"#VALUE!"},true,"",null,{"$error":"#VALUE!"},{"$error":"#VALUE!"},true,"",null,{"$error":"#VALUE!"},{"$error":"#VALUE!"},true,"",null,{"$error":"#VALUE!"},{"$error":"#VALUE!"},true,"",null,{"$error":"#VALUE!"},{"$error":"#VALUE!"},true,"",null,{"$error":"#VALUE!"},{"$error":"#VALUE!"},true,""]
["Antwerpen",62,"WESTERLO",2170.5100000000002,377146.90400000004,null,10,null,"nr",null,null,{"$error":"#VALUE!"},{"$error":"#VALUE!"},true,"",null,{"$error":"#VALUE!"},{"$error":"#VALUE!"},true,"",null,{"$error":"#VALUE!"},{"$error":"#VALUE!"},true,"",null,{"$error":"#VALUE!"},{"$error":"#VALUE!"},true,"",null,{"$error":"#VALUE!"},{"$error":"#VALUE!"},true,"",null,{"$error":"#VALUE!"},{"$error":"#VALUE!"},true,"",null,{"$error":"#VALUE!"},{"$error":"#VALUE!"},true,"",null,{"$error":"#VALUE!"},{"$error":"#VALUE!"},true,"",null,{"$error":"#VALUE!"},{"$error":"#VALUE!"},true,"",null,{"$error":"#VALUE!"},{"$error":"#VALUE!"},true,"",null,{"$error":"#VALUE!"},{"$error":"#VALUE!"},true,""]
["Antwerpen",63,"WIJNEGEM",55.93,1316.99,null,10,null,{"$f":"Mestverwerkingsplicht!D23","v":0},null,null,{"$error":"#VALUE!"},{"$error":"#VALUE!"},true,"",null,{"$error":"#VALUE!"},{"$error":"#VALUE!"},true,"",null,{"$error":"#VALUE!"},{"$error":"#VALUE!"},true,"",null,{"$error":"#VALUE!"},{"$error":"#VALUE!"},true,"",null,{"$error":"#VALUE!"},{"$error":"#VALUE!"},true,"",null,{"$error":"#VALUE!"},{"$error":"#VALUE!"},true,"",null,{"$error":"#VALUE!"},{"$error":"#VALUE!"},true,"",null,{"$error":"#VALUE!"},{"$error":"#VALUE!"},true,"",null,{"$error":"#VALUE!"},{"$error":"#VALUE!"},true,"",null,{"$error":"#VALUE!"},{"$error":"#VALUE!"},true,"",null,{"$error":"#VALUE!"},{"$error":"#VALUE!"},true,""]
["Antwerpen",64,"WILLEBROEK",688.96,85100.113000000012,null,10,null,null,null,null,{"$error":"#VALUE!"},{"$error":"#VALUE!"},true,"",null,{"$error":"#VALUE!"},{"$error":"#VALUE!"},true,"",null,{"$error":"#VALUE!"},{"$error":"#VALUE!"},true,"",null,{"$error":"#VALUE!"},{"$error":"#VALUE!"},true,"",null,{"$error":"#VALUE!"},{"$error":"#VALUE!"},true,"",null,{"$error":"#VALUE!"},{"$error":"#VALUE!"},true,"",null,{"$error":"#VALUE!"},{"$error":"#VALUE!"},true,"",null,{"$error":"#VALUE!"},{"$error":"#VALUE!"},true,"",null,{"$error":"#VALUE!"},{"$error":"#VALUE!"},true,"",null,{"$error":"#VALUE!"},{"$error":"#VALUE!"},true,"",null,{"$error":"#VALUE!"},{"$error":"#VALUE!"},true,""]
["Antwerpen",65,"WOMMELGEM",193.84,16289.23,null,10,null,"DBLEZENfunctie8:",null,null,{"$error":"#VALUE!"},{"$f":"VLOOKUP(L66,$B$1:$G$302,2,FALSE)","v":{"$error":"#VALUE!"}},true,"",null,{"$error":"#VALUE!"},{"$f":"VLOOKUP(Q66,$B$1:$G$302,2,FALSE)","v":{"$error":"#VALUE!"}},true,"",null,{"$error":"#VALUE!"},{"$f":"VLOOKUP(V66,$B$1:$G$302,2,FALSE)","v":{"$error":"#VALUE!"}},true,"",null,{"$error":"#VALUE!"},{"$f":"VLOOKUP(AA66,$B$1:$G$302,2,FALSE)","v":{"$error":"#VALUE!"}},true,"",null,{"$error":"#VALUE!"},{"$f":"VLOOKUP(AF66,$B$1:$G$302,2,FALSE)","v":{"$error":"#VALUE!"}},true,"",null,{"$error":"#VALUE!"},{"$f":"VLOOKUP(AK66,$B$1:$G$302,2,FALSE)","v":{"$error":"#VALUE!"}},true,"",null,{"$error":"#VALUE!"},{"$f":"VLOOKUP(AP66,$B$1:$G$302,2,FALSE)","v":{"$error":"#VALUE!"}},true,"",null,{"$error":"#VALUE!"},{"$f":"VLOOKUP(AU66,$B$1:$G$302,2,FALSE)","v":{"$error":"#VALUE!"}},true,"",null,{"$error":"#VALUE!"},{"$f":"VLOOKUP(AZ66,$B$1:$G$302,2,FALSE)","v":{"$error":"#VALUE!"}},true,"",null,{"$error":"#VALUE!"},{"$f":"VLOOKUP(BE66,$B$1:$G$302,2,FALSE)","v":{"$error":"#VALUE!"}},true,"",null,{"$error":"#VALUE!"},{"$f":"VLOOKUP(BJ66,$B$1:$G$302,2,FALSE)","v":{"$error":"#VALUE!"}},true,""]
["Antwerpen",66,"WUUSTWEZEL",6633.9349999999977,2564771.912,null,30,null,"Provincie",null,null,{"$error":"#VALUE!"},{"$error":"#VALUE!"},{"$f":"ISERROR(M67)","v":true},{"$f":"IF(N67=FALSE,M67,\"\")","v":""},null,{"$error":"#VALUE!"},{"$error":"#VALUE!"},{"$f":"ISERROR(R67)","v":true},{"$f":"IF(S67=FALSE,R67,\"\")","v":""},null,{"$error":"#VALUE!"},{"$error":"#VALUE!"},{"$f":"ISERROR(W67)","v":true},{"$f":"IF(X67=FALSE,W67,\"\")","v":""},null,{"$error":"#VALUE!"},{"$error":"#VALUE!"},{"$f":"ISERROR(AB67)","v":true},{"$f":"IF(AC67=FALSE,AB67,\"\")","v":""},null,{"$error":"#VALUE!"},{"$error":"#VALUE!"},{"$f":"ISERROR(AG67)","v":true},{"$f":"IF(AH67=FALSE,AG67,\"\")","v":""},null,{"$error":"#VALUE!"},{"$error":"#VALUE!"},{"$f":"ISERROR(AL67)","v":true},{"$f":"IF(AM67=FALSE,AL67,\"\")","v":""},null,{"$error":"#VALUE!"},{"$error":"#VALUE!"},{"$f":"ISERROR(AQ67)","v":true},{"$f":"IF(AR67=FALSE,AQ67,\"\")","v":""},null,{"$error":"#VALUE!"},{"$error":"#VALUE!"},{"$f":"ISERROR(AV67)","v":true},{"$f":"IF(AW67=FALSE,AV67,\"\")","v":""},null,{"$error":"#VALUE!"},{"$error":"#VALUE!"},{"$f":"ISERROR(BA67)","v":true},{"$f":"IF(BB67=FALSE,BA67,\"\")","v":""},null,{"$error":"#VALUE!"},{"$error":"#VALUE!"},{"$f":"ISERROR(BF67)","v":true},{"$f":"IF(BG67=FALSE,BF67,\"\")","v":""},null,{"$error":"#VALUE!"},{"$error":"#VALUE!"},{"$f":"ISERROR(BK67)","v":true},{"$f":"IF(BL67=FALSE,BK67,\"\")","v":""}]
["Antwerpen",67,"ZANDHOVEN",1319.8,256314.97550000003,null,10,null,{"$f":"DGET($I$1:$J$6,2,I71:I72)","v":{"$error":"#VALUE!"}},null,null,{"$error":"#VALUE!"},{"$error":"#VALUE!"},{"$f":"ISERROR(M68)","v":true},{"$f":"IF(N68=FALSE,M68,\"\")","v":""},null,{"$f":"Q67+1","v":{"$error":"#VALUE!"}},{"$error":"#VALUE!"},{"$f":"ISERROR(R68)","v":true},{"$f":"IF(S68=FALSE,R68,\"\")","v":""},null,{"$f":"V67+1","v":{"$error":"#VALUE!"}},{"$error":"#VALUE!"},{"$f":"ISERROR(W68)","v":true},{"$f":"IF(X68=FALSE,W68,\"\")","v":""},null,{"$f":"AA67+1","v":{"$error":"#VALUE!"}},{"$error":"#VALUE!"},{"$f":"ISERROR(AB68)","v":true},{"$f":"IF(AC68=FALSE,AB68,\"\")","v":""},null,{"$f":"AF67+1","v":{"$error":"#VALUE!"}},{"$error":"#VALUE!"},{"$f":"ISERROR(AG68)","v":true},{"$f":"IF(AH68=FALSE,AG68,\"\")","v":""},null,{"$f":"AK67+1","v":{"$error":"#VALUE!"}},{"$error":"#VALUE!"},{"$f":"ISERROR(AL68)","v":true},{"$f":"IF(AM68=FALSE,AL68,\"\")","v":""},null,{"$f":"AP67+1","v":{"$error":"#VALUE!"}},{"$error":"#VALUE!"},{"$f":"ISERROR(AQ68)","v":true},{"$f":"IF(AR68=FALSE,AQ68,\"\")","v":""},null,{"$f":"AU67+1","v":{"$error":"#VALUE!"}},{"$error":"#VALUE!"},{"$f":"ISERROR(AV68)","v":true},{"$f":"IF(AW68=FALSE,AV68,\"\")","v":""},null,{"$f":"AZ67+1","v":{"$error":"#VALUE!"}},{"$error":"#VALUE!"},{"$f":"ISERROR(BA68)","v":true},{"$f":"IF(BB68=FALSE,BA68,\"\")","v":""},null,{"$f":"BE67+1","v":{"$error":"#VALUE!"}},{"$error":"#VALUE!"},{"$f":"ISERROR(BF68)","v":true},{"$f":"IF(BG68=FALSE,BF68,\"\")","v":""},null,{"$f":"BJ67+1","v":{"$error":"#VALUE!"}},{"$error":"#VALUE!"},{"$f":"ISERROR(BK68)","v":true},{"$f":"IF(BL68=FALSE,BK68,\"\")","v":""}]
["Antwerpen",68,"ZOERSEL",700.38,96091.582000000009,null,10,null,null,null,null,{"$error":"#VALUE!"},{"$error":"#VALUE!"},{"$f":"ISERROR(M69)","v":true},{"$f":"IF(N69=FALSE,M69,\"\")","v":""},null,{"$f":"Q68+1","v":{"$error":"#VALUE!"}},{"$error":"#VALUE!"},{"$f":"ISERROR(R69)","v":true},{"$f":"IF(S69=FALSE,R69,\"\")","v":""},null,{"$f":"V68+1","v":{"$error":"#VALUE!"}},{"$error":"#VALUE!"},{"$f":"ISERROR(W69)","v":true},{"$f":"IF(X69=FALSE,W69,\"\")","v":""},null,{"$f":"AA68+1","v":{"$error":"#VALUE!"}},{"$error":"#VALUE!"},{"$f":"ISERROR(AB69)","v":true},{"$f":"IF(AC69=FALSE,AB69,\"\")","v":""},null,{"$f":"AF68+1","v":{"$error":"#VALUE!"}},{"$error":"#VALUE!"},{"$f":"ISERROR(AG69)","v":true},{"$f":"IF(AH69=FALSE,AG69,\"\")","v":""},null,{"$f":"AK68+1","v":{"$error":"#VALUE!"}},{"$error":"#VALUE!"},{"$f":"ISERROR(AL69)","v":true},{"$f":"IF(AM69=FALSE,AL69,\"\")","v":""},null,{"$f":"AP68+1","v":{"$error":"#VALUE!"}},{"$error":"#VALUE!"},{"$f":"ISERROR(AQ69)","v":true},{"$f":"IF(AR69=FALSE,AQ69,\"\")","v":""},null,{"$f":"AU68+1","v":{"$error":"#VALUE!"}},{"$error":"#VALUE!"},{"$f":"ISERROR(AV69)","v":true},{"$f":"IF(AW69=FALSE,AV69,\"\")","v":""},null,{"$f":"AZ68+1","v":{"$error":"#VALUE!"}},{"$error":"#VALUE!"},{"$f":"ISERROR(BA69)","v":true},{"$f":"IF(BB69=FALSE,BA69,\"\")","v":""},null,{"$f":"BE68+1","v":{"$error":"#VALUE!"}},{"$error":"#VALUE!"},{"$f":"ISERROR(BF69)","v":true},{"$f":"IF(BG69=FALSE,BF69,\"\")","v":""},null,{"$f":"BJ68+1","v":{"$error":"#VALUE!"}},{"$error":"#VALUE!"},{"$f":"ISERROR(BK69)","v":true},{"$f":"IF(BL69=FALSE,BK69,\"\")","v":""}]
["Antwerpen",69,"ZWIJNDRECHT",405.46499999999997,31188.064000000002,null,10,null,"Criterium8",null,null,{"$error":"#VALUE!"},{"$error":"#VALUE!"},{"$f":"ISERROR(M70)","v":true},{"$f":"IF(N70=FALSE,M70,\"\")","v":""},null,{"$f":"Q69+1","v":{"$error":"#VALUE!"}},{"$error":"#VALUE!"},{"$f":"ISERROR(R70)","v":true},{"$f":"IF(S70=FALSE,R70,\"\")","v":""},null,{"$f":"V69+1","v":{"$error":"#VALUE!"}},{"$error":"#VALUE!"},{"$f":"ISERROR(W70)","v":true},{"$f":"IF(X70=FALSE,W70,\"\")","v":""},null,{"$f":"AA69+1","v":{"$error":"#VALUE!"}},{"$error":"#VALUE!"},{"$f":"ISERROR(AB70)","v":true},{"$f":"IF(AC70=FALSE,AB70,\"\")","v":""},null,{"$f":"AF69+1","v":{"$error":"#VALUE!"}},{"$error":"#VALUE!"},{"$f":"ISERROR(AG70)","v":true},{"$f":"IF(AH70=FALSE,AG70,\"\")","v":""},null,{"$f":"AK69+1","v":{"$error":"#VALUE!"}},{"$error":"#VALUE!"},{"$f":"ISERROR(AL70)","v":true},{"$f":"IF(AM70=FALSE,AL70,\"\")","v":""},null,{"$f":"AP69+1","v":{"$error":"#VALUE!"}},{"$error":"#VALUE!"},{"$f":"ISERROR(AQ70)","v":true},{"$f":"IF(AR70=FALSE,AQ70,\"\")","v":""},null,{"$f":"AU69+1","v":{"$error":"#VALUE!"}},{"$error":"#VALUE!"},{"$f":"ISERROR(AV70)","v":true},{"$f":"IF(AW70=FALSE,AV70,\"\")","v":""},null,{"$f":"AZ69+1","v":{"$error":"#VALUE!"}},{"$error":"#VALUE!"},{"$f":"ISERROR(BA70)","v":true},{"$f":"IF(BB70=FALSE,BA70,\"\")","v":""},null,{"$f":"BE69+1","v":{"$error":"#VALUE!"}},{"$error":"#VALUE!"},{"$f":"ISERROR(BF70)","v":true},{"$f":"IF(BG70=FALSE,BF70,\"\")","v":""},null,{"$f":"BJ69+1","v":{"$error":"#VALUE!"}},{"$error":"#VALUE!"},{"$f":"ISERROR(BK70)","v":true},{"$f":"IF(BL70=FALSE,BK70,\"\")","v":""}]
["Limburg",100,"ALKEN",1713.7349999999999,231566.50300000003,null,10,null,"nr",null,null,{"$error":"#VALUE!"},{"$error":"#VALUE!"},{"$f":"ISERROR(M71)","v":true},{"$f":"IF(N71=FALSE,M71,\"\")","v":""},null,{"$f":"Q70+1","v":{"$error":"#VALUE!"}},{"$error":"#VALUE!"},{"$f":"ISERROR(R71)","v":true},{"$f":"IF(S71=FALSE,R71,\"\")","v":""},null,{"$f":"V70+1","v":{"$error":"#VALUE!"}},{"$error":"#VALUE!"},{"$f":"ISERROR(W71)","v":true},{"$f":"IF(X71=FALSE,W71,\"\")","v":""},null,{"$f":"AA70+1","v":{"$error":"#VALUE!"}},{"$error":"#VALUE!"},{"$f":"ISERROR(AB71)","v":true},{"$f":"IF(AC71=FALSE,AB71,\"\")","v":""},null,{"$f":"AF70+1","v":{"$error":"#VALUE!"}},{"$error":"#VALUE!"},{"$f":"ISERROR(AG71)","v":true},{"$f":"IF(AH71=FALSE,AG71,\"\")","v":""},null,{"$f":"AK70+1","v":{"$error":"#VALUE!"}},{"$error":"#VALUE!"},{"$f":"ISERROR(AL71)","v":true},{"$f":"IF(AM71=FALSE,AL71,\"\")","v":""},null,{"$f":"AP70+1","v":{"$error":"#VALUE!"}},{"$error":"#VALUE!"},{"$f":"ISERROR(AQ71)","v":true},{"$f":"IF(AR71=FALSE,AQ71,\"\")","v":""},null,{"$f":"AU70+1","v":{"$error":"#VALUE!"}},{"$error":"#VALUE!"},{"$f":"ISERROR(AV71)","v":true},{"$f":"IF(AW71=FALSE,AV71,\"\")","v":""},null,{"$f":"AZ70+1","v":{"$error":"#VALUE!"}},{"$error":"#VALUE!"},{"$f":"ISERROR(BA71)","v":true},{"$f":"IF(BB71=FALSE,BA71,\"\")","v":""},null,{"$f":"BE70+1","v":{"$error":"#VALUE!"}},{"$error":"#VALUE!"},{"$f":"ISERROR(BF71)","v":true},{"$f":"IF(BG71=FALSE,BF71,\"\")","v":""},null,{"$f":"BJ70+1","v":{"$error":"#VALUE!"}},{"$error":"#VALUE!"},{"$f":"ISERROR(BK71)","v":true},{"$f":"IF(BL71=FALSE,BK71,\"\")","v":""}]
["Limburg",101,"AS",184.75,62937.782499999994,null,10,null,{"$f":"Mestverwerkingsplicht!D24","v":0}]
["Limburg",102,"BERINGEN",906.76499999999999,143015.0925,null,10]
["Limburg",103,"BILZEN",3613.19,472626.31599999976,null,10,null,"DBLEZENfunctie9:",null,null,"Gekozen","Gemeente","Provincie",null,null,"Gekozen","Gemeente","Provincie",null,null,"Gekozen","Gemeente","Provincie",null,null,"Gekozen","Gemeente","Provincie",null,null,"Gekozen","Gemeente","Provincie",null,null,"Gekozen","Gemeente","Provincie",null,null,"Gekozen","Gemeente","Provincie",null,null,"Gekozen","Gemeente","Provincie",null,null,"Gekozen","Gemeente","Provincie",null,null,"Gekozen","Gemeente","Provincie",null,null,"Gekozen","Gemeente","Provincie"]
["Limburg",104,"BOCHOLT",3503.46,931298.91300000006,null,20,null,"Provincie",null,null,null,{"$f":"INDEX(O2:O71,Mestverwerkingsplicht!$E17)","v":{"$error":"#VALUE!"}},{"$f":"$I12","v":{"$error":"#VALUE!"}},null,null,null,{"$f":"INDEX(T2:T71,Mestverwerkingsplicht!$E18)","v":{"$error":"#VALUE!"}},{"$f":"$I20","v":{"$error":"#VALUE!"}},null,null,null,{"$f":"INDEX(Y2:Y71,Mestverwerkingsplicht!$E19)","v":{"$error":"#VALUE!"}},{"$f":"$I28","v":{"$error":"#VALUE!"}},null,null,null,{"$f":"INDEX(AD2:AD71,Mestverwerkingsplicht!$E20)","v":{"$error":"#VALUE!"}},{"$f":"$I36","v":{"$error":"#VALUE!"}},null,null,null,{"$f":"INDEX(AI2:AI71,Mestverwerkingsplicht!$E21)","v":{"$error":"#VALUE!"}},{"$f":"$I44","v":{"$error":"#VALUE!"}},null,null,null,{"$f":"INDEX(AN2:AN71,Mestverwerkingsplicht!$E22)","v":{"$error":"#VALUE!"}},{"$f":"$I52","v":{"$error":"#VALUE!"}},null,null,null,{"$f":"INDEX(AS2:AS71,Mestverwerkingsplicht!$E23)","v":{"$error":"#VALUE!"}},{"$f":"$I60","v":{"$error":"#VALUE!"}},null,null,null,{"$f":"INDEX(AX2:AX71,Mestverwerkingsplicht!$E24)","v":{"$error":"#VALUE!"}},{"$f":"$I68","v":{"$error":"#VALUE!"}},null,null,null,{"$f":"INDEX(BC2:BC71,Mestverwerkingsplicht!$E25)","v":{"$error":"#VALUE!"}},{"$f":"$I76","v":{"$error":"#VALUE!"}},null,null,null,{"$f":"INDEX(BH2:BH71,Mestverwerkingsplicht!$E26)","v":{"$error":"#VALUE!"}},{"$f":"$I84","v":{"$error":"#VALUE!"}},null,null,null,{"$f":"INDEX(BM2:BM71,Mestverwerkingsplicht!$E27)","v":{"$error":"#VALUE!"}},{"$f":"$I92","v":{"$error":"#VALUE!"}}]
["Limburg",105,"BORGLOON",3485.4250000000011,290024.25,null,10,null,{"$f":"DGET($I$1:$J$6,2,I79:I80)","v":{"$error":"#VALUE!"}}]
["Limburg",106,"BREE",4407.2349999999997,996570.29400000046,null,20,null,null,null,null,null,"Basispercentage van die gemeente:",null,null,null,null,"Basispercentage van die gemeente:",null,null,null,null,"Basispercentage van die gemeente:",null,null,null,null,"Basispercentage van die gemeente:",null,null,null,null,"Basispercentage van die gemeente:",null,null,null,null,"Basispercentage van die gemeente:",null,null,null,null,"Basispercentage van die gemeente:",null,null,null,null,"Basispercentage van die gemeente:",null,null,null,null,"Basispercentage van die gemeente:",null,null,null,null,"Basispercentage van die gemeente:",null,null,null,null,"Basispercentage van die gemeente:"]
["Limburg",107,"DIEPENBEEK",1165.5899999999999,199118.70499999996,null,10,null,"Criterium9",null,null,null,{"$f":"DGET($A$1:$G$302,7,M74:N75)","v":{"$error":"#VALUE!"}},null,null,null,null,{"$f":"DGET($A$1:$G$302,7,R74:S75)","v":{"$error":"#VALUE!"}},null,null,null,null,{"$f":"DGET($A$1:$G$302,7,W74:X75)","v":{"$error":"#VALUE!"}},null,null,null,null,{"$f":"DGET($A$1:$G$302,7,AB74:AC75)","v":{"$error":"#VALUE!"}},null,null,null,null,{"$f":"DGET($A$1:$G$302,7,AG74:AH75)","v":{"$error":"#VALUE!"}},null,null,null,null,{"$f":"DGET($A$1:$G$302,7,AL74:AM75)","v":{"$error":"#VALUE!"}},null,null,null,null,{"$f":"DGET($A$1:$G$302,7,AQ74:AR75)","v":{"$error":"#VALUE!"}},null,null,null,null,{"$f":"DGET($A$1:$G$302,7,AV74:AW75)","v":{"$error":"#VALUE!"}},null,null,null,null,{"$f":"DGET($A$1:$G$302,7,BA74:BB75)","v":{"$error":"#VALUE!"}},null,null,null,null,{"$f":"DGET($A$1:$G$302,7,BF74:BG75)","v":{"$error":"#VALUE!"}},null,null,null,null,{"$f":"DGET($A$1:$G$302,7,BK74:BL75)","v":{"$error":"#VALUE!"}}]
["Limburg",108,"DILSEN",2068.3850000000002,319922.91500000004,null,10,null,"nr",null,null,null,{"$f":"IF(ISERROR(M78),10,M78)","v":10},null,null,null,null,{"$f":"IF(ISERROR(R78),10,R78)","v":10},null,null,null,null,{"$f":"IF(ISERROR(W78),10,W78)","v":10},null,null,null,null,{"$f":"IF(ISERROR(AB78),10,AB78)","v":10},null,null,null,null,{"$f":"IF(ISERROR(AG78),10,AG78)","v":10},null,null,null,null,{"$f":"IF(ISERROR(AL78),10,AL78)","v":10},null,null,null,null,{"$f":"IF(ISERROR(AQ78),10,AQ78)","v":10},null,null,null,null,{"$f":"IF(ISERROR(AV78),10,AV78)","v":10},null,null,null,null,{"$f":"IF(ISERROR(BA78),10,BA78)","v":10},null,null,null,null,{"$f":"IF(ISERROR(BF78),10,BF78)","v":10},null,null,null,null,{"$f":"IF(ISERROR(BK78),10,BK78)","v":10}]
["Limburg",109,"GENK",147.70500000000001,8292.4130000000005,null,10,null,{"$f":"Mestverwerkingsplicht!D25","v":0}]
["Limburg",110,"GINGELOM",3627.67,83040.274000000005,null,10]
["Limburg",111,"HALEN",1716.385,228538.59899999999,null,10,null,"DBLEZENfunctie10:"]
["Limburg",112,"HAM",565.78499999999997,89825.415999999968,null,10,null,"Provincie"]
["Limburg",113,"HAMONT-ACHEL",2555.0349999999999,453680.65749999997,null,20,null,{"$f":"DGET($I$1:$J$6,2,I87:I88)","v":{"$error":"#VALUE!"}}]
["Limburg",114,"HASSELT",2458.9749999999999,270268.41399999987,null,10]
["Limburg",115,"HECHTEL-EKSEL",753.26499999999999,140390.9215,null,10,null,"Criterium10"]
["Limburg",116,"HEERS",3366.7649999999994,359953.18049999996,null,10,null,"nr"]
["Limburg",117,"HERK-DE-STAD",2038.51,199061.71250000002,null,10,null,{"$f":"Mestverwerkingsplicht!D26","v":0}]
["Limburg",118,"HERSTAPPE",360.16,19695.222500000003,null,10]
["Limburg",119,"HEUSDEN-ZOLDER",465.21,39298.619500000008,null,10,null,"DBLEZENfunctie11:"]
["Limburg",120,"HOESELT",1326.88,175175.99850000005,null,10,null,"Provincie"]
["Limburg",121,"HOUTHALEN-HELCHTEREN",1524.585,93543.316000000021,null,10,null,{"$f":"DGET($I$1:$J$6,2,I95:I96)","v":{"$error":"#VALUE!"}}]
["Limburg",122,"KINROOI",3111.3449999999993,866669.33300000033,null,20]
["Limburg",123,"KORTESSEM",1830.2349999999999,221050.02249999996,null,10,null,"Criterium11"]
["Limburg",124,"LANAKEN",1185.0050000000001,178712.51700000005,null,10,null,"nr"]
["Limburg",125,"LEOPOLDSBURG",2307.6999999999998,26026.923499999997,null,10,null,{"$f":"Mestverwerkingsplicht!D27","v":0}]
["Limburg",126,"LOMMEL",1365.52,195504.79399999999,null,10]
["Limburg",127,"LUMMEN",1699.71,335020.44499999995,null,10]
["Limburg",128,"MAASEIK",2867.355,632732.31600000011,null,10]
["Limburg",129,"MAASMECHELEN",1352.5550000000001,130733.34899999999,null,10]
["Limburg",130,"NIEUWERKERKEN",1562.4349999999999,104078.30099999999,null,10]
["Limburg",131,"OUDSBERGEN",826.54,94966.054499999998,null,10]
["Limburg",133,"PELT",null,null,null,20]
["Limburg",134,"RIEMST",4657.9799999999996,528538.55099999998,null,10]
["Limburg",135,"SINT-TRUIDEN",6896.6249999999955,345763.46749999997,null,10]
["Limburg",136,"TESSENDERLO",1349.47,164694.83549999999,null,10]
["Limburg",137,"TONGEREN",5304.02,538339.8330000001,null,10]
["Limburg",138,"VOEREN",2390.38,413349.44949999999,null,10]
["Limburg",139,"WELLEN",1185.08,112487.82699999999,null,10]
["Limburg",140,"ZONHOVEN",671.255,46510.894999999997,null,10]
["Limburg",141,"ZUTENDAAL",212.255,41163.154000000002,null,10]
["Limburg ",132,"PEER",5068.4799999999996,1124636.0114999996,null,20]
["Oost-Vlaanderen",200,"AALST",2045.13,198595.78500000006,null,10]
["Oost-Vlaanderen",201,"AALTER",4844.3,1846195.860499999,null,20]
["Oost-Vlaanderen",202,"ASSENEDE",6924.9850000000033,1477002.0495,null,20]
["Oost-Vlaanderen",203,"BERLARE",1602.21,291314.60100000002,null,10]
["Oost-Vlaanderen",204,"BEVEREN-WAAS",7592.9249999999947,1785940.533499999,null,20]
["Oost-Vlaanderen",205,"BRAKEL",3291.3150000000001,409586.2784999999,null,10]
["Oost-Vlaanderen",206,"BUGGENHOUT",1086.9349999999999,135478.5845,null,10]
["Oost-Vlaanderen",207,"DE PINTE",660.65,84502.333500000008,null,10]
["Oost-Vlaanderen",208,"DEINZE",4316.99,1221081.0064999997,null,20]
["Oost-Vlaanderen",209,"DENDERLEEUW",283.3,41334.173999999999,null,10]
["Oost-Vlaanderen",210,"DENDERMONDE",1951.11,402373.46750000003,null,10]
["Oost-Vlaanderen",211,"DESTELBERGEN",631.21,95887.66700000003,null,10]
["Oost-Vlaanderen",212,"EEKLO",1775.135,626410.99349999987,null,20]
["Oost-Vlaanderen",213,"ERPE-MERE",1667.83,247629.69250000006,null,10]
["Oost-Vlaanderen",214,"EVERGEM",4646.6000000000004,1077498.6069999996,null,20]
["Oost-Vlaanderen",215,"GAVERE",1508.67,203004.57349999997,null,10]
["Oost-Vlaanderen",216,"GENT",3038.42,472552.45099999988,null,10]
["Oost-Vlaanderen",217,"GERAARDSBERGEN",3610.77,492678.90400000027,null,10]
["Oost-Vlaanderen",218,"HAALTERT",1183.58,142606.72700000007,null,10]
["Oost-Vlaanderen",219,"HAMME",1612.7449999999999,295858.53099999996,null,10]
["Oost-Vlaanderen",220,"HERZELE",2817.68,346330.53650000005,null,10]
["Oost-Vlaanderen",221,"HOREBEKE",870.69,86476.807000000015,null,10]
["Oost-Vlaanderen",222,"KAPRIJKE",2916.0550000000007,912571.12650000001,null,30]
["Oost-Vlaanderen",223,"KLUISBERGEN",1662.585,257447.54100000006,null,10]
["Oost-Vlaanderen",224,"KRUIBEKE",1914.5150000000001,490798.10049999983,null,20]
["Oost-Vlaanderen",225,"KRUISEM",3280.625,592043.21549999993,null,10]
["Oost-Vlaanderen",226,"LAARNE",1614.9849999999999,262200.66450000007,null,10]
["Oost-Vlaanderen",227,"LEBBEKE",1297.1199999999999,157195.06450000001,null,10]
["Oost-Vlaanderen",228,"LEDE",1129.6949999999999,125627.5435,null,10]
["Oost-Vlaanderen",229,"LIERDE",1903.28,228141.88700000002,null,10]
["Oost-Vlaanderen",230,"LIEVEGEM",1075.7449999999999,261020.15900000001,null,20]
["Oost-Vlaanderen",231,"LOCHRISTI",3952.6,834682.15850000025,null,20]
["Oost-Vlaanderen",232,"LOKEREN",3700.84,865252.69749999989,null,20]
["Oost-Vlaanderen",233,"MAARKEDAL",3194.1,497999.09649999987,null,10]
["Oost-Vlaanderen",234,"MALDEGEM",6008.07,1432575.1249999995,null,20]
["Oost-Vlaanderen",235,"MELLE",547.41999999999996,80837.039999999994,null,10]
["Oost-Vlaanderen",236,"MERELBEKE",1127.44,128932.10549999999,null,10]
["Oost-Vlaanderen",237,"MOERBEKE-WAAS",1985.49,328664.12800000003,null,10]
["Oost-Vlaanderen",238,"NAZARETH",2337.5300000000002,558087.11800000013,null,20]
["Oost-Vlaanderen",239,"NINOVE",3742.6749999999979,476368.96799999999,null,10]
["Oost-Vlaanderen",240,"OOSTERZELE",2389.4349999999999,358609.85749999987,null,10]
["Oost-Vlaanderen",241,"OUDENAARDE",3558.47,442388.10150000011,null,10]
["Oost-Vlaanderen",242,"RONSE",1034.32,174016.6495,null,10]
["Oost-Vlaanderen",243,"SINT-GILLIS-WAAS",3633.02,798401.48950000026,null,20]
["Oost-Vlaanderen",244,"SINT-LAUREINS",5739.1249999999991,1171322.9839999997,null,20]
["Oost-Vlaanderen",245,"SINT-LIEVENS-HOUTEM",1317.05,143369.908,null,10]
["Oost-Vlaanderen",246,"SINT-MARTENS-LATEM",179.73,26263.64,null,10]
["Oost-Vlaanderen",247,"SINT-NIKLAAS",3942.1750000000002,1009387.0274999995,null,20]
["Oost-Vlaanderen",248,"STEKENE",1969.43,485115.43399999983,null,20]
["Oost-Vlaanderen",249,"TEMSE",1845.93,406577.93299999996,null,20]
["Oost-Vlaanderen",250,"WAASMUNSTER",1166.07,289499.92750000005,null,10]
["Oost-Vlaanderen",251,"WACHTEBEKE",1519.81,228927.67799999996,null,10]
["Oost-Vlaanderen",252,"WETTEREN",1968.2449999999999,238363.17949999997,null,10]
["Oost-Vlaanderen",253,"WICHELEN",1047.385,128785.62499999997,null,10]
["Oost-Vlaanderen",254,"WORTEGEM-PETEGEM",2950.74,423017.61300000001,null,10]
["Oost-Vlaanderen",255,"ZELE",1887.2049999999999,481361.1370000001,null,20]
["Oost-Vlaanderen",256,"ZELZATE",492.86,81541.681500000006,null,10]
["Oost-Vlaanderen",260,"ZOMERGEM",null,null,null,20]
["Oost-Vlaanderen",257,"ZOTTEGEM",2953.49,291518.55,null,10]
["Oost-Vlaanderen",258,"ZULTE",1925.64,502851.74650000001,null,20]
["Oost-Vlaanderen",259,"ZWALM",1888.2149999999999,205698.97150000007,null,10]
["Vlaams-Brabant",300,"AARSCHOT",1584.76,113007.86550000001,null,10]
["Vlaams-Brabant",301,"AFFLIGEM",458.31,43746.1,null,10]
["Vlaams-Brabant",302,"ASSE",2018.595,247634.3505,null,10]
["Vlaams-Brabant",303,"BEERSEL",1133.58,121140.92049999999,null,10]
["Vlaams-Brabant",304,"BEGIJNENDIJK",181.04,12030.721500000001,null,10]
["Vlaams-Brabant",305,"BEKKEVOORT",2744.1849999999999,280493.90550000005,null,10]
["Vlaams-Brabant",306,"BERTEM",1871.64,93466.297500000015,null,10]
["Vlaams-Brabant",307,"BEVER",1362.77,183893.8365,null,10]
["Vlaams-Brabant",308,"BIERBEEK",1690.48,136022.32949999999,null,10]
["Vlaams-Brabant",309,"BOORTMEERBEEK",411.98,39126.519999999997,null,10]
["Vlaams-Brabant",310,"BOUTERSEM",2161.41,143501.77699999997,null,10]
["Vlaams-Brabant",311,"DIEST",2118.9299999999998,266918.38550000003,null,10]
["Vlaams-Brabant",312,"DILBEEK",1000.27,96621.310499999992,null,10]
["Vlaams-Brabant",313,"DROGENBOS",0,637.5,null,10]
["Vlaams-Brabant",314,"GALMAARDEN",1893.57,254091.04400000002,null,10]
["Vlaams-Brabant",315,"GEETBETS",1950.9849999999999,247856.66800000001,null,10]
["Vlaams-Brabant",316,"GLABBEEK",1772.075,216214.95899999997,null,10]
["Vlaams-Brabant",317,"GOOIK",2822.43,344183.22399999999,null,10]
["Vlaams-Brabant",318,"GRIMBERGEN",1762.0550000000001,66662.431500000006,null,10]
["Vlaams-Brabant",319,"HAACHT",1133.4349999999999,135931.70249999998,null,10]
["Vlaams-Brabant",320,"HALLE",1415.21,135810.22900000002,null,10]
["Vlaams-Brabant",321,"HERENT",1091.8499999999999,84158.210999999981,null,10]
["Vlaams-Brabant",322,"HERNE",3120.94,380614.76799999992,null,10]
["Vlaams-Brabant",323,"HOEGAARDEN",2379.3200000000002,129179.67649999997,null,10]
["Vlaams-Brabant",324,"HOEILAART",94.65,14222.2,null,10]
["Vlaams-Brabant",325,"HOLSBEEK",1527.87,119712.6655,null,10]
["Vlaams-Brabant",326,"HULDENBERG",1758.29,155219.95349999995,null,10]
["Vlaams-Brabant",327,"KAMPENHOUT",1307.02,19618.391,null,10]
["Vlaams-Brabant",328,"KAPELLE-OP-DEN-BOS",653.25,68067.676999999996,null,10]
["Vlaams-Brabant",329,"KEERBERGEN",237.53,17385.900000000001,null,10]
["Vlaams-Brabant",330,"KORTENAKEN",3051.02,332353.87599999999,null,10]
["Vlaams-Brabant",331,"KORTENBERG",1461.48,61299.611500000014,null,10]
["Vlaams-Brabant",332,"KRAAINEM",38.64,879.75,null,10]
["Vlaams-Brabant",333,"LANDEN",3364.59,108943.00400000004,null,10]
["Vlaams-Brabant",334,"LENNIK",1657.2249999999999,190359.15750000003,null,10]
["Vlaams-Brabant",335,"LEUVEN",1062.5899999999999,54158.991000000002,null,10]
["Vlaams-Brabant",336,"LIEDEKERKE",144.76,18242.708500000001,null,10]
["Vlaams-Brabant",337,"LINKEBEEK",125.99,5568.6559999999999,null,10]
["Vlaams-Brabant",338,"LINTER",2644.6549999999993,282200.799,null,10]
["Vlaams-Brabant",339,"LONDERZEEL",2219.31,263742.31800000003,null,10]
["Vlaams-Brabant",340,"LUBBEEK",2327.6999999999998,223766.40149999992,null,10]
["Vlaams-Brabant",341,"MACHELEN",17.27,0,null,10]
["Vlaams-Brabant",342,"MEISE",1750.87,140943.62550000002,null,10]
["Vlaams-Brabant",343,"MERCHTEM",2669.88,310795.52149999997,null,10]
["Vlaams-Brabant",344,"OPWIJK",1036.48,97781.526499999978,null,10]
["Vlaams-Brabant",345,"OUD-HEVERLEE",410.75,24275.507000000001,null,10]
["Vlaams-Brabant",346,"OVERIJSE",900.26499999999999,61502.667999999998,null,10]
["Vlaams-Brabant",347,"PEPINGEN",2761.7150000000011,365217.51949999999,null,10]
["Vlaams-Brabant",348,"ROOSDAAL",815.70500000000004,74133.361999999994,null,10]
["Vlaams-Brabant",349,"ROTSELAAR",545.83000000000004,17346.358,null,10]
["Vlaams-Brabant",350,"SCHERPENHEUVEL-ZICHEM",1217.22,122616.67349999999,null,10]
["Vlaams-Brabant",351,"SINT-GENESIUS-RODE",317.3,45343.972500000003,null,10]
["Vlaams-Brabant",352,"SINT-PIETERS-LEEUW",1909.66,196798.05199999997,null,10]
["Vlaams-Brabant",353,"STEENOKKERZEEL",786.57,7108.3290000000006,null,10]
["Vlaams-Brabant",354,"TERNAT",858.755,79591.560500000007,null,10]
["Vlaams-Brabant",355,"TERVUREN",828.08,34756.5,null,10]
["Vlaams-Brabant",356,"TIELT-WINGE",1503.405,179689.17549999998,null,10]
["Vlaams-Brabant",357,"TIENEN",4699.6250000000027,390835.0575,null,10]
["Vlaams-Brabant",358,"TREMELO",242.38499999999999,30817.565999999999,null,10]
["Vlaams-Brabant",359,"VILVOORDE",307.14999999999998,14397.146999999999,null,10]
["Vlaams-Brabant",360,"WEMMEL",209.62,10636.22,null,10]
["Vlaams-Brabant",361,"WEZEMBEEK-OPPEM",71.760000000000005,820.25,null,10]
["Vlaams-Brabant",362,"ZAVENTEM",773.02,5105.1000000000004,null,10]
["Vlaams-Brabant",363,"ZEMST",1559.0150000000001,117434.54650000001,null,10]
["Vlaams-Brabant",364,"ZOUTLEEUW",2208.2550000000001,228824.63250000001,null,10]
["West-Vlaanderen",400,"ALVERINGEM",7097.715000000002,1546501.4919999987,null,20]
["West-Vlaanderen",401,"ANZEGEM",2600.0949999999998,526847.47599999991,null,20]
["West-Vlaanderen",402,"ARDOOIE",2501.83,1160545.7064999999,null,30]
["West-Vlaanderen",403,"AVELGEM",1523.36,234136.41,null,10]
["West-Vlaanderen",404,"BEERNEM",5016.9399999999996,1366214.6135000004,null,20]
["West-Vlaanderen",405,"BLANKENBERGE",648.87,103751.77350000001,null,10]
["West-Vlaanderen",406,"BREDENE",431.3,23555.845999999994,null,10]
["West-Vlaanderen",407,"BRUGGE",5382.8850000000002,825269.25,null,10]
["West-Vlaanderen",408,"DAMME",5913.9850000000006,1237802.4785,null,10]
["West-Vlaanderen",409,"DE HAAN",2409.62,290282.81150000001,null,10]
["West-Vlaanderen",410,"DE PANNE",898.93,124269.53250000002,null,10]
["West-Vlaanderen",411,"DEERLIJK",973.72,294151.62050000008,null,20]
["West-Vlaanderen",412,"DENTERGEM",1960.6949999999999,750604.26400000032,null,30]
["West-Vlaanderen",413,"DIKSMUIDE",12293.33,2791955.8235000004,null,20]
["West-Vlaanderen",414,"GISTEL",3168.8649999999998,563582.87799999991,null,20]
["West-Vlaanderen",415,"HARELBEKE",1138.5050000000001,243561.75400000004,null,20]
["West-Vlaanderen",416,"HEUVELLAND",7739.52,1902169.0404999999,null,20]
["West-Vlaanderen",417,"HOOGLEDE",2567.13,996077.7444999998,null,20]
["West-Vlaanderen",418,"HOUTHULST",4104.6450000000004,1024810.7110000005,null,20]
["West-Vlaanderen",419,"ICHTEGEM",3138.89,1153338.1145000001,null,20]
["West-Vlaanderen",420,"IEPER",9476.1949999999943,2404393.1640000003,null,20]
["West-Vlaanderen",421,"INGELMUNSTER",754.64,171064.42099999997,null,20]
["West-Vlaanderen",422,"IZEGEM",878.35,267150.63949999999,null,20]
["West-Vlaanderen",423,"JABBEKE",3656.5,785102.14299999981,null,20]
["West-Vlaanderen",424,"KNOKKE-HEIST",3504.21,415630.29699999985,null,10]
["West-Vlaanderen",425,"KOEKELARE",3775.3950000000004,1155798.4649999994,null,30]
["West-Vlaanderen",426,"KOKSIJDE",2028.29,253246.58599999998,null,10]
["West-Vlaanderen",427,"KORTEMARK",4067.83,1235808.9225000001,null,20]
["West-Vlaanderen",428,"KORTRIJK",3517.92,552510.45500000007,null,10]
["West-Vlaanderen",429,"KUURNE",348.59,58830.098000000013,null,10]
["West-Vlaanderen",430,"LANGEMARK-POELKAPELLE",4122.22,1240760.1214999997,null,20]
["West-Vlaanderen",431,"LEDEGEM",1740.4449999999999,546441.19149999972,null,20]
["West-Vlaanderen",432,"LENDELEDE",875.25,243552.27650000007,null,20]
["West-Vlaanderen",433,"LICHTERVELDE",2087.25,1092593.2639999997,null,30]
["West-Vlaanderen",434,"LO-RENINGE",5694.27,1533782.6359999999,null,20]
["West-Vlaanderen",435,"MENEN",1526.9849999999999,255822.56200000001,null,10]
["West-Vlaanderen",436,"MESEN",209.69,33311.916500000007,null,20]
["West-Vlaanderen",437,"MEULEBEKE",2024.9449999999999,718951.52200000011,null,20]
["West-Vlaanderen",438,"MIDDELKERKE",5194.16,835330.72550000029,null,10]
["West-Vlaanderen",439,"MOORSLEDE",2496.4,650143.36750000017,null,20]
["West-Vlaanderen",440,"NIEUWPOORT",2121.4699999999998,309649.78950000001,null,20]
["West-Vlaanderen",441,"OOSTENDE",816.84,102311.49099999998,null,10]
["West-Vlaanderen",442,"OOSTKAMP",4811.6749999999965,1443381.6510000008,null,20]
["West-Vlaanderen",443,"OOSTROZEBEKE",1161.365,414432.77449999988,null,30]
["West-Vlaanderen",444,"OUDENBURG",2188.42,465384.74100000004,null,10]
["West-Vlaanderen",445,"PITTEM",2558.0949999999998,1219223.3230000008,null,30]
["West-Vlaanderen",446,"POPERINGE",9795.635000000013,2105702.841,null,20]
["West-Vlaanderen",447,"ROESELARE",2545.0500000000002,736647.43399999978,null,20]
["West-Vlaanderen",448,"RUISELEDE",2472.3150000000001,1107885.4270000001,null,30]
["West-Vlaanderen",449,"SPIERE-HELKIJN",654.45000000000005,57380.771500000003,null,10]
["West-Vlaanderen",450,"STADEN",3756.72,1350296.0770000005,null,30]
["West-Vlaanderen",451,"TIELT",5969.4649999999992,2534142.7824999974,null,30]
["West-Vlaanderen",452,"TORHOUT",2909.84,1244709.0004999998,null,30]
["West-Vlaanderen",453,"VEURNE",7750.45,1374079.74,null,20]
["West-Vlaanderen",454,"VLETEREN",3172.78,938516.57750000036,null,20]
["West-Vlaanderen",455,"WAREGEM",1718.425,282415.29650000005,null,10]
["West-Vlaanderen",456,"WERVIK",3258.6050000000005,800413.73699999973,null,20]
["West-Vlaanderen",457,"WEVELGEM",2102.38,582233.52699999977,null,20]
["West-Vlaanderen",458,"WIELSBEKE",997.77499999999998,371555.25550000009,null,20]
["West-Vlaanderen",459,"WINGENE",5268.13,2745108.039499999,null,30]
["West-Vlaanderen",460,"ZEDELGEM",3765.41,1187123.7104999998,null,20]
["West-Vlaanderen",461,"ZONNEBEKE",4861.3599999999997,1565521.9080000001,null,20]
["West-Vlaanderen",462,"ZUIENKERKE",3796.49,576198.90099999995,null,10]
["West-Vlaanderen",463,"ZWEVEGEM",3930.67,768461.43799999985,null,10]